BEGIN:VCALENDAR
VERSION:2.0
PRODID:-//CUNY School of Law - ECPv6.15.14//NONSGML v1.0//EN
CALSCALE:GREGORIAN
METHOD:PUBLISH
X-WR-CALNAME:CUNY School of Law
X-ORIGINAL-URL:https://www.law.cuny.edu
X-WR-CALDESC:Events for CUNY School of Law
REFRESH-INTERVAL;VALUE=DURATION:PT1H
X-Robots-Tag:noindex
X-PUBLISHED-TTL:PT1H
BEGIN:VTIMEZONE
TZID:America/New_York
BEGIN:DAYLIGHT
TZOFFSETFROM:-0500
TZOFFSETTO:-0400
TZNAME:EDT
DTSTART:20220313T070000
END:DAYLIGHT
BEGIN:STANDARD
TZOFFSETFROM:-0400
TZOFFSETTO:-0500
TZNAME:EST
DTSTART:20221106T060000
END:STANDARD
BEGIN:DAYLIGHT
TZOFFSETFROM:-0500
TZOFFSETTO:-0400
TZNAME:EDT
DTSTART:20230312T070000
END:DAYLIGHT
BEGIN:STANDARD
TZOFFSETFROM:-0400
TZOFFSETTO:-0500
TZNAME:EST
DTSTART:20231105T060000
END:STANDARD
BEGIN:DAYLIGHT
TZOFFSETFROM:-0500
TZOFFSETTO:-0400
TZNAME:EDT
DTSTART:20240310T070000
END:DAYLIGHT
BEGIN:STANDARD
TZOFFSETFROM:-0400
TZOFFSETTO:-0500
TZNAME:EST
DTSTART:20241103T060000
END:STANDARD
END:VTIMEZONE
BEGIN:VEVENT
DTSTART;TZID=America/New_York:20230928T120000
DTEND;TZID=America/New_York:20230928T180000
DTSTAMP:20260421T144748
CREATED:20230917T185919Z
LAST-MODIFIED:20230917T185919Z
UID:10134634-1695902400-1695924000@www.law.cuny.edu
SUMMARY:Tabling for Lalsaween
DESCRIPTION:We will be selling tickets at the table for our fundraiser Lalsaween
URL:https://www.law.cuny.edu/event/tabling-for-lalsaween/
LOCATION:CUNY School of Law
CATEGORIES:Special Event
END:VEVENT
BEGIN:VEVENT
DTSTART;TZID=America/New_York:20230928T150000
DTEND;TZID=America/New_York:20230928T160000
DTSTAMP:20260421T144748
CREATED:20230922T220226Z
LAST-MODIFIED:20230922T220226Z
UID:10134492-1695913200-1695916800@www.law.cuny.edu
SUMMARY:EJC General Body Meeting
DESCRIPTION:At the meeting\, we’ll do a brief intro of ourselves and the organization\, and discuss some of the events and other initiatives we’re envisioning for this term\, including advocacy for the environmental law clinic\, an environmental law panel\, and climate justice organizing with other NYC law schools. We are so excited to hear your ideas for EJC\, and we’ll talk about how we can support you in executing them
URL:https://www.law.cuny.edu/event/ejc-general-body-meeting/
LOCATION:CUNY Law Community Room
CATEGORIES:Meeting
END:VEVENT
END:VCALENDAR