BEGIN:VCALENDAR
VERSION:2.0
PRODID:-//CUNY School of Law - ECPv6.15.14//NONSGML v1.0//EN
CALSCALE:GREGORIAN
METHOD:PUBLISH
X-WR-CALNAME:CUNY School of Law
X-ORIGINAL-URL:https://www.law.cuny.edu
X-WR-CALDESC:Events for CUNY School of Law
REFRESH-INTERVAL;VALUE=DURATION:PT1H
X-Robots-Tag:noindex
X-PUBLISHED-TTL:PT1H
BEGIN:VTIMEZONE
TZID:America/New_York
BEGIN:DAYLIGHT
TZOFFSETFROM:-0500
TZOFFSETTO:-0400
TZNAME:EDT
DTSTART:20230312T070000
END:DAYLIGHT
BEGIN:STANDARD
TZOFFSETFROM:-0400
TZOFFSETTO:-0500
TZNAME:EST
DTSTART:20231105T060000
END:STANDARD
BEGIN:DAYLIGHT
TZOFFSETFROM:-0500
TZOFFSETTO:-0400
TZNAME:EDT
DTSTART:20240310T070000
END:DAYLIGHT
BEGIN:STANDARD
TZOFFSETFROM:-0400
TZOFFSETTO:-0500
TZNAME:EST
DTSTART:20241103T060000
END:STANDARD
BEGIN:DAYLIGHT
TZOFFSETFROM:-0500
TZOFFSETTO:-0400
TZNAME:EDT
DTSTART:20250309T070000
END:DAYLIGHT
BEGIN:STANDARD
TZOFFSETFROM:-0400
TZOFFSETTO:-0500
TZNAME:EST
DTSTART:20251102T060000
END:STANDARD
END:VTIMEZONE
BEGIN:VEVENT
DTSTART;TZID=America/New_York:20240401T140000
DTEND;TZID=America/New_York:20240401T150000
DTSTAMP:20260421T144645
CREATED:20240110T185443Z
LAST-MODIFIED:20240401T141923Z
UID:10134765-1711980000-1711983600@www.law.cuny.edu
SUMMARY:Coffee with Dean Sudha Setty
DESCRIPTION:Students\, faculty\, and staff are invited to gather for coffee and conversation with Dean Sudha Setty. Stop by the 2nd floor lobby\, grab a cup\, and stay if you like! \nLocation: 2nd Floor Lobby \n 
URL:https://www.law.cuny.edu/event/coffee-with-dean-sudha-setty-13/
LOCATION:CUNY School of Law
CATEGORIES:Dean's Office,Student
END:VEVENT
BEGIN:VEVENT
DTSTART;TZID=America/New_York:20240401T140000
DTEND;TZID=America/New_York:20240401T150000
DTSTAMP:20260421T144645
CREATED:20240130T201722Z
LAST-MODIFIED:20250129T204722Z
UID:10134571-1711980000-1711983600@www.law.cuny.edu
SUMMARY:Exhale to Inhale 2024 Trauma-Informed Yoga Program
DESCRIPTION:These 45-minute yoga classes will offer time to check-in with your stress levels\, connect with your body\, and make movement-based choices. Weekly themes: Connect\, Anchor\, Experience\, Restore\, Empower\, Resilience\, Intention\, Mindfulness\, Courage\, Curiosity\, Self-Acceptance\, and Worthiness. \nYou are welcome to wear comfortable clothing. \nOur classes are perfect for beginners.\nBring your own mat or towel to practice with. 
URL:https://www.law.cuny.edu/event/exhale-to-inhale-2024-trauma-informed-yoga-program-2024-04-29-2024-04-01/
LOCATION:Room 2-111\, 2 Ct Square W\, Long Island City\, NY\, 11101\, United States
CATEGORIES:Health & Wellness,Workshop
END:VEVENT
BEGIN:VEVENT
DTSTART;TZID=America/New_York:20240401T180000
DTEND;TZID=America/New_York:20240401T193000
DTSTAMP:20260421T144645
CREATED:20240222T153250Z
LAST-MODIFIED:20240401T134101Z
UID:10134753-1711994400-1711999800@www.law.cuny.edu
SUMMARY:Burns Chair Events: Resistance to Autocracy During the Trump Administration
DESCRIPTION:Richard Abel\, Professor Emeritus at UCLA and 2007 Burns Chair\, will discuss resistance to autocracy during the Trump administration. \nPlease join us as Prof. Richard Abel\, Connell Distinguished Professor of Law Emeritus at UCLA and 2007 Burns Chair at CUNY Law\, discusses his three new books on resistance to autocracy during the Trump administration. During his four years as president\, Trump violated the most basic precepts of liberal democracy: seeking to overturn elections\, issuing illegal executive orders against immigrants\, corrupting the criminal justice system to protect his cronies\, and undercutting the efforts of scientific experts to control the Covid-19 pandemic. Prof. Abel’s talk\, introduced by current Burns Chair\, Vince Warren\, will discuss these abuses\, and importantly\, the forms of resistance they provoked. \nRSVP
URL:https://www.law.cuny.edu/event/burns-chair-events-book-talk-with-richard-abel-vince-warren/
LOCATION:Community Room
CATEGORIES:Networking Event,Panel Discussion,Speaker,Special Event,Student,W. Haywood Burns Chair Event
END:VEVENT
END:VCALENDAR