BEGIN:VCALENDAR
VERSION:2.0
PRODID:-//CUNY School of Law - ECPv6.15.14//NONSGML v1.0//EN
CALSCALE:GREGORIAN
METHOD:PUBLISH
X-WR-CALNAME:CUNY School of Law
X-ORIGINAL-URL:https://www.law.cuny.edu
X-WR-CALDESC:Events for CUNY School of Law
REFRESH-INTERVAL;VALUE=DURATION:PT1H
X-Robots-Tag:noindex
X-PUBLISHED-TTL:PT1H
BEGIN:VTIMEZONE
TZID:America/New_York
BEGIN:DAYLIGHT
TZOFFSETFROM:-0500
TZOFFSETTO:-0400
TZNAME:EDT
DTSTART:20230312T070000
END:DAYLIGHT
BEGIN:STANDARD
TZOFFSETFROM:-0400
TZOFFSETTO:-0500
TZNAME:EST
DTSTART:20231105T060000
END:STANDARD
BEGIN:DAYLIGHT
TZOFFSETFROM:-0500
TZOFFSETTO:-0400
TZNAME:EDT
DTSTART:20240310T070000
END:DAYLIGHT
BEGIN:STANDARD
TZOFFSETFROM:-0400
TZOFFSETTO:-0500
TZNAME:EST
DTSTART:20241103T060000
END:STANDARD
BEGIN:DAYLIGHT
TZOFFSETFROM:-0500
TZOFFSETTO:-0400
TZNAME:EDT
DTSTART:20250309T070000
END:DAYLIGHT
BEGIN:STANDARD
TZOFFSETFROM:-0400
TZOFFSETTO:-0500
TZNAME:EST
DTSTART:20251102T060000
END:STANDARD
END:VTIMEZONE
BEGIN:VEVENT
DTSTART;TZID=America/New_York:20240415T133000
DTEND;TZID=America/New_York:20240415T153000
DTSTAMP:20260421T151258
CREATED:20240313T143734Z
LAST-MODIFIED:20240411T213252Z
UID:10134594-1713187800-1713195000@www.law.cuny.edu
SUMMARY:Practicing Faith and Law
DESCRIPTION:Embarking on the journey of law school\, we each bring our unique lived experiences and cultural backgrounds\, shaping our understanding and engagement with the law and its practice. One of these identities also encompass our faith practices\, presenting challenges and questions as we navigate law school and into professional practice. Join us and our esteemed alumni panel for a thoughtful discussion on how they’ve integrated their faith practices and values into their legal careers. Gain invaluable insights\, practical advice\, and inspiration for navigating ethical challenges in the legal field while championing social justice and compassionate lawyering. 
URL:https://www.law.cuny.edu/event/practicing-faith-and-law/
LOCATION:CUNY Law Community Room
CATEGORIES:Panel Discussion,Student
END:VEVENT
BEGIN:VEVENT
DTSTART;TZID=America/New_York:20240415T174500
DTEND;TZID=America/New_York:20240415T183000
DTSTAMP:20260421T151258
CREATED:20240110T185558Z
LAST-MODIFIED:20240410T181412Z
UID:10134766-1713203100-1713205800@www.law.cuny.edu
SUMMARY:Coffee with Dean Sudha Setty
DESCRIPTION:Students\, faculty\, and staff are invited to gather for coffee and conversation with Dean Sudha Setty. Stop by the 2nd floor lobby\, grab a cup\, and stay if you like! \nLocation: 2nd Floor Lobby \n 
URL:https://www.law.cuny.edu/event/coffee-with-dean-sudha-setty-14/
LOCATION:CUNY School of Law
END:VEVENT
END:VCALENDAR