BEGIN:VCALENDAR
VERSION:2.0
PRODID:-//CUNY School of Law - ECPv6.15.14//NONSGML v1.0//EN
CALSCALE:GREGORIAN
METHOD:PUBLISH
X-ORIGINAL-URL:https://www.law.cuny.edu
X-WR-CALDESC:Events for CUNY School of Law
REFRESH-INTERVAL;VALUE=DURATION:PT1H
X-Robots-Tag:noindex
X-PUBLISHED-TTL:PT1H
BEGIN:VTIMEZONE
TZID:America/New_York
BEGIN:DAYLIGHT
TZOFFSETFROM:-0500
TZOFFSETTO:-0400
TZNAME:EDT
DTSTART:20240310T070000
END:DAYLIGHT
BEGIN:STANDARD
TZOFFSETFROM:-0400
TZOFFSETTO:-0500
TZNAME:EST
DTSTART:20241103T060000
END:STANDARD
BEGIN:DAYLIGHT
TZOFFSETFROM:-0500
TZOFFSETTO:-0400
TZNAME:EDT
DTSTART:20250309T070000
END:DAYLIGHT
BEGIN:STANDARD
TZOFFSETFROM:-0400
TZOFFSETTO:-0500
TZNAME:EST
DTSTART:20251102T060000
END:STANDARD
BEGIN:DAYLIGHT
TZOFFSETFROM:-0500
TZOFFSETTO:-0400
TZNAME:EDT
DTSTART:20260308T070000
END:DAYLIGHT
BEGIN:STANDARD
TZOFFSETFROM:-0400
TZOFFSETTO:-0500
TZNAME:EST
DTSTART:20261101T060000
END:STANDARD
END:VTIMEZONE
BEGIN:VEVENT
DTSTART;TZID=America/New_York:20250122T123000
DTEND;TZID=America/New_York:20250122T143000
DTSTAMP:20260423T031805
CREATED:20241112T195950Z
LAST-MODIFIED:20250103T010424Z
UID:10134840-1737549000-1737556200@www.law.cuny.edu
SUMMARY:Social Justice Lawyering Strategies to Confront the New Administration: Reproductive Justice
DESCRIPTION:Join us for the second lunchtime panel in a series of Social Justice Lawyering conversations featuring CUNY Law faculty and experts. Distinguished speakers Professor Cindy Soohoo (Co-Director\, Human Rights & Gender Justice Clinic)\, Amanda Allen ’08 (Deputy Executive Director for Legal Programs\, The Lawyering Project)\, Farah Diaz-Tello ’09 (Senior Counsel & Legal Director\, If/When/How)\, and Katie Corwin ’24 (Legal Fellow\, Reproductive Rights Law Initiative at Case Western Reserve School of Law) will explore reproductive justice lawyering strategies and advocacy in the current political landscape. \nOpen to all Law School students\, faculty\, and staff. \nRSVP required. Please indicate in-person or Zoom attendance.
URL:https://www.law.cuny.edu/event/social-justice-lawyering-strategies-to-confront-the-new-administration-reproductive-justice/
LOCATION:CUNY School of Law
CATEGORIES:Homepage Feature,Panel Discussion
END:VEVENT
END:VCALENDAR