BEGIN:VCALENDAR
VERSION:2.0
PRODID:-//CUNY School of Law - ECPv6.15.14//NONSGML v1.0//EN
CALSCALE:GREGORIAN
METHOD:PUBLISH
X-WR-CALNAME:CUNY School of Law
X-ORIGINAL-URL:https://www.law.cuny.edu
X-WR-CALDESC:Events for CUNY School of Law
REFRESH-INTERVAL;VALUE=DURATION:PT1H
X-Robots-Tag:noindex
X-PUBLISHED-TTL:PT1H
BEGIN:VTIMEZONE
TZID:America/New_York
BEGIN:DAYLIGHT
TZOFFSETFROM:-0500
TZOFFSETTO:-0400
TZNAME:EDT
DTSTART:20240310T070000
END:DAYLIGHT
BEGIN:STANDARD
TZOFFSETFROM:-0400
TZOFFSETTO:-0500
TZNAME:EST
DTSTART:20241103T060000
END:STANDARD
BEGIN:DAYLIGHT
TZOFFSETFROM:-0500
TZOFFSETTO:-0400
TZNAME:EDT
DTSTART:20250309T070000
END:DAYLIGHT
BEGIN:STANDARD
TZOFFSETFROM:-0400
TZOFFSETTO:-0500
TZNAME:EST
DTSTART:20251102T060000
END:STANDARD
BEGIN:DAYLIGHT
TZOFFSETFROM:-0500
TZOFFSETTO:-0400
TZNAME:EDT
DTSTART:20260308T070000
END:DAYLIGHT
BEGIN:STANDARD
TZOFFSETFROM:-0400
TZOFFSETTO:-0500
TZNAME:EST
DTSTART:20261101T060000
END:STANDARD
END:VTIMEZONE
BEGIN:VEVENT
DTSTART;TZID=America/New_York:20250416T123000
DTEND;TZID=America/New_York:20250416T133000
DTSTAMP:20260421T143034
CREATED:20250211T171134Z
LAST-MODIFIED:20250211T171134Z
UID:10134865-1744806600-1744810200@www.law.cuny.edu
SUMMARY:El Ritmo es la Ley: Weekly Latin Dance Classes
DESCRIPTION:Ready to step away from the books and into the rhythm? Join us for an exciting\, no-experience-needed Latin dance class every week! Whether you’re looking to unwind after a busy day of studying or just want to have fun with friends\, these classes will get you moving and grooving to salsa\, bachata\, and more. \nIt’s the perfect way to break a sweat\, shake off the stress\, and connect with fellow law students\, staff\, and faculty in a lively\, supportive environment. No partner needed—just bring your energy and your smile! \nEvery Wednesday in the Beacon (subject to change)\, from 12:30-1:30 PM and 5:30-6:30 PM.
URL:https://www.law.cuny.edu/event/el-ritmo-es-la-ley-weekly-latin-dance-classes/2025-04-16/
LOCATION:The Beacon\, First Floor Blvd
END:VEVENT
BEGIN:VEVENT
DTSTART;TZID=America/New_York:20250416T123000
DTEND;TZID=America/New_York:20250416T143000
DTSTAMP:20260421T143034
CREATED:20250409T050123Z
LAST-MODIFIED:20250410T024404Z
UID:10134883-1744806600-1744813800@www.law.cuny.edu
SUMMARY:Social Justice Lawyering Strategies to Confront the New Administration: LGBTQ+ Justice
DESCRIPTION:Join us for a series of lunchtime panels on Social Justice Lawyering featuring CUNY Law faculty and expert alumni.\nProfessor Jared M. Trujillo will be joined by Jose Abrigo ’13\, Director of the HIV Project at Lambda Legal\, Amy Leipziger ’07\, Director of the Free to be Youth Project at the Urban Justice Center\, Milo Primeaux ’13\, Law Office of Milo Primeaux\, Esq.\, and Elana Redfield ’08\, Arnold D. Kassoy Scholar of Law and Federal Policy Director at the Williams Institute. \nThis event is open to all Law School students\, faculty\, and staff; lunch is provided and RSVP is required. \nPlease indicate in-person or Zoom attendance. \nLink to RSVP
URL:https://www.law.cuny.edu/event/social-justice-lawyering-strategies-to-confront-the-new-administration-lgbtq-justice/
LOCATION:CUNY School of Law
CATEGORIES:Homepage Feature,Panel Discussion
END:VEVENT
BEGIN:VEVENT
DTSTART;TZID=America/New_York:20250416T150000
DTEND;TZID=America/New_York:20250416T170000
DTSTAMP:20260421T143034
CREATED:20250331T153956Z
LAST-MODIFIED:20250331T154444Z
UID:10134887-1744815600-1744822800@www.law.cuny.edu
SUMMARY:Communications Skills
DESCRIPTION:Communication Skills – Community Room for CURRENT CUNY Students\, Faculty & Staff RSVP with CUNY emails. \nAma Yawson will facilitate a workshop on communicating intentionally with people who have different viewpoints. \nFollowing up on her successful series of trainings in 2024\, Attorney\, author and communications expert Ama Yawson will return to the law school on April 16th from 3-5 to facilitate an engaging workshop on communicating intentionally with people who have different viewpoints. Food will be provided.
URL:https://www.law.cuny.edu/event/56830/
LOCATION:CUNY Law Community Room
CATEGORIES:Faculty,Student,Workshop
END:VEVENT
END:VCALENDAR