BEGIN:VCALENDAR
VERSION:2.0
PRODID:-//CUNY School of Law - ECPv6.15.14//NONSGML v1.0//EN
CALSCALE:GREGORIAN
METHOD:PUBLISH
X-WR-CALNAME:CUNY School of Law
X-ORIGINAL-URL:https://www.law.cuny.edu
X-WR-CALDESC:Events for CUNY School of Law
REFRESH-INTERVAL;VALUE=DURATION:PT1H
X-Robots-Tag:noindex
X-PUBLISHED-TTL:PT1H
BEGIN:VTIMEZONE
TZID:America/New_York
BEGIN:DAYLIGHT
TZOFFSETFROM:-0500
TZOFFSETTO:-0400
TZNAME:EDT
DTSTART:20240310T070000
END:DAYLIGHT
BEGIN:STANDARD
TZOFFSETFROM:-0400
TZOFFSETTO:-0500
TZNAME:EST
DTSTART:20241103T060000
END:STANDARD
BEGIN:DAYLIGHT
TZOFFSETFROM:-0500
TZOFFSETTO:-0400
TZNAME:EDT
DTSTART:20250309T070000
END:DAYLIGHT
BEGIN:STANDARD
TZOFFSETFROM:-0400
TZOFFSETTO:-0500
TZNAME:EST
DTSTART:20251102T060000
END:STANDARD
BEGIN:DAYLIGHT
TZOFFSETFROM:-0500
TZOFFSETTO:-0400
TZNAME:EDT
DTSTART:20260308T070000
END:DAYLIGHT
BEGIN:STANDARD
TZOFFSETFROM:-0400
TZOFFSETTO:-0500
TZNAME:EST
DTSTART:20261101T060000
END:STANDARD
END:VTIMEZONE
BEGIN:VEVENT
DTSTART;TZID=America/New_York:20250423T123000
DTEND;TZID=America/New_York:20250423T133000
DTSTAMP:20260421T145249
CREATED:20250211T171134Z
LAST-MODIFIED:20250211T171134Z
UID:10134866-1745411400-1745415000@www.law.cuny.edu
SUMMARY:El Ritmo es la Ley: Weekly Latin Dance Classes
DESCRIPTION:Ready to step away from the books and into the rhythm? Join us for an exciting\, no-experience-needed Latin dance class every week! Whether you’re looking to unwind after a busy day of studying or just want to have fun with friends\, these classes will get you moving and grooving to salsa\, bachata\, and more. \nIt’s the perfect way to break a sweat\, shake off the stress\, and connect with fellow law students\, staff\, and faculty in a lively\, supportive environment. No partner needed—just bring your energy and your smile! \nEvery Wednesday in the Beacon (subject to change)\, from 12:30-1:30 PM and 5:30-6:30 PM.
URL:https://www.law.cuny.edu/event/el-ritmo-es-la-ley-weekly-latin-dance-classes/2025-04-23/
LOCATION:The Beacon\, First Floor Blvd
END:VEVENT
BEGIN:VEVENT
DTSTART;TZID=America/New_York:20250423T123000
DTEND;TZID=America/New_York:20250423T133000
DTSTAMP:20260421T145249
CREATED:20250416T140614Z
LAST-MODIFIED:20250416T140614Z
UID:10134894-1745411400-1745415000@www.law.cuny.edu
SUMMARY:Dean's Coffee
DESCRIPTION:The Dean’s Office invites all faculty\, staff and students to attend our last Dean’s Coffee for the Spring 2025 Semester! This event is scheduled on Wednesday\, April 23rd from 12:30pm – 1:30pm on the 5th Floor\, Student Affairs Lounging Area.
URL:https://www.law.cuny.edu/event/deans-coffee-3/
LOCATION:5th Floor\, Student Affairs Lounging Area (Across 5-110G)
END:VEVENT
END:VCALENDAR