BEGIN:VCALENDAR
VERSION:2.0
PRODID:-//CUNY School of Law - ECPv6.15.14//NONSGML v1.0//EN
CALSCALE:GREGORIAN
METHOD:PUBLISH
X-WR-CALNAME:CUNY School of Law
X-ORIGINAL-URL:https://www.law.cuny.edu
X-WR-CALDESC:Events for CUNY School of Law
REFRESH-INTERVAL;VALUE=DURATION:PT1H
X-Robots-Tag:noindex
X-PUBLISHED-TTL:PT1H
BEGIN:VTIMEZONE
TZID:America/New_York
BEGIN:DAYLIGHT
TZOFFSETFROM:-0500
TZOFFSETTO:-0400
TZNAME:EDT
DTSTART:20240310T070000
END:DAYLIGHT
BEGIN:STANDARD
TZOFFSETFROM:-0400
TZOFFSETTO:-0500
TZNAME:EST
DTSTART:20241103T060000
END:STANDARD
BEGIN:DAYLIGHT
TZOFFSETFROM:-0500
TZOFFSETTO:-0400
TZNAME:EDT
DTSTART:20250309T070000
END:DAYLIGHT
BEGIN:STANDARD
TZOFFSETFROM:-0400
TZOFFSETTO:-0500
TZNAME:EST
DTSTART:20251102T060000
END:STANDARD
BEGIN:DAYLIGHT
TZOFFSETFROM:-0500
TZOFFSETTO:-0400
TZNAME:EDT
DTSTART:20260308T070000
END:DAYLIGHT
BEGIN:STANDARD
TZOFFSETFROM:-0400
TZOFFSETTO:-0500
TZNAME:EST
DTSTART:20261101T060000
END:STANDARD
END:VTIMEZONE
BEGIN:VEVENT
DTSTART;VALUE=DATE:20250523
DTEND;VALUE=DATE:20250728
DTSTAMP:20260421T135712
CREATED:20250519T180114Z
LAST-MODIFIED:20250519T180114Z
UID:10134903-1747958400-1753660799@www.law.cuny.edu
SUMMARY:Bar Study Rooms
DESCRIPTION:Bar Study Rooms: \n  \n4/211 with light refreshments \n4/217 quiet room
URL:https://www.law.cuny.edu/event/bar-study-rooms/
LOCATION:CUNY School of Law
END:VEVENT
BEGIN:VEVENT
DTSTART;VALUE=DATE:20250618
DTEND;VALUE=DATE:20250619
DTSTAMP:20260421T135712
CREATED:20240924T191037Z
LAST-MODIFIED:20250129T191230Z
UID:10134800-1750204800-1750291199@www.law.cuny.edu
SUMMARY:Group Admission to the United States Supreme Court Bar
DESCRIPTION:CUNY SCHOOL OF LAW\nGROUP ADMISSION TO THE\n UNITED STATES SUPREME COURT BAR\n\nDean Sudha Setty and the Alumni Office invite up to 50 alumni/ae and a guest to enjoy a memorable experience at the U.S. Supreme Court in Washington\, D.C.  The half-day includes being admitted to the Bar of the U.S. Supreme Court in open court and a continental breakfast in one of the Court’s conference rooms. \n Wednesday\, June 18\, 2025\n(note that Thursday is the Juneteenth national holiday)\n\nFor sign-up information please send your name\, e-mail and mailing addresses to Franklin Siegel at siegel@law.cuny.edu.\nYou will be sent detailed information on how to participate. This is a “make-up” for the June 2020 Group cancelled due to the COVID-19 pandemic\, so preference will be given to participants from the 2020 group who notify the school by November 30th that they wish to participate. \nNOTE:  Attorneys are eligible for admission to the U.S. Supreme Court Bar if they have been admitted to the bar of a state\, the District of Columbia or the Commonwealth of Puerto Rico for at least three years prior to admission and must not have been the subject of any adverse disciplinary action during the three years prior to admission.  (Supreme Court Rule 5.)   The day’s activities are offered at cost.  Approximately $225 includes the Court’s $200 Bar admission filing fee\, and the cost price for a light continental breakfast including tax and gratuity (breakfast price subject to finalization; additional charge for guest’s breakfast provided at cost).  Does not include transportation or lodging.
URL:https://www.law.cuny.edu/event/group-admission-supreme-court-bar/
LOCATION:United States Supreme Court\, Washington\, DC\, United States
CATEGORIES:Alumni,Special Event
ATTACH;FMTTYPE=image/jpeg:https://www.law.cuny.edu/wp-content/uploads/page-assets/event/group-admission-supreme-court-bar/The-City-University-June-16-2014-2-e1727274587344.jpg
END:VEVENT
END:VCALENDAR