BEGIN:VCALENDAR
VERSION:2.0
PRODID:-//CUNY School of Law - ECPv6.15.14//NONSGML v1.0//EN
CALSCALE:GREGORIAN
METHOD:PUBLISH
X-WR-CALNAME:CUNY School of Law
X-ORIGINAL-URL:https://www.law.cuny.edu
X-WR-CALDESC:Events for CUNY School of Law
REFRESH-INTERVAL;VALUE=DURATION:PT1H
X-Robots-Tag:noindex
X-PUBLISHED-TTL:PT1H
BEGIN:VTIMEZONE
TZID:America/New_York
BEGIN:DAYLIGHT
TZOFFSETFROM:-0500
TZOFFSETTO:-0400
TZNAME:EDT
DTSTART:20230312T070000
END:DAYLIGHT
BEGIN:STANDARD
TZOFFSETFROM:-0400
TZOFFSETTO:-0500
TZNAME:EST
DTSTART:20231105T060000
END:STANDARD
BEGIN:DAYLIGHT
TZOFFSETFROM:-0500
TZOFFSETTO:-0400
TZNAME:EDT
DTSTART:20240310T070000
END:DAYLIGHT
BEGIN:STANDARD
TZOFFSETFROM:-0400
TZOFFSETTO:-0500
TZNAME:EST
DTSTART:20241103T060000
END:STANDARD
BEGIN:DAYLIGHT
TZOFFSETFROM:-0500
TZOFFSETTO:-0400
TZNAME:EDT
DTSTART:20250309T070000
END:DAYLIGHT
BEGIN:STANDARD
TZOFFSETFROM:-0400
TZOFFSETTO:-0500
TZNAME:EST
DTSTART:20251102T060000
END:STANDARD
END:VTIMEZONE
BEGIN:VEVENT
DTSTART;TZID=America/New_York:20241104T123000
DTEND;TZID=America/New_York:20241104T131500
DTSTAMP:20260421T154655
CREATED:20241008T183645Z
LAST-MODIFIED:20241008T183645Z
UID:10134813-1730723400-1730726100@www.law.cuny.edu
SUMMARY:Trauma-Informed Yoga Program - Fall 2024
DESCRIPTION:Join our 45-minute yoga classes designed to help you manage stress\, connect with your body\, and make mindful\, movement-based choices. Our beginner-friendly classes are perfect for anyone looking to improve their well-being. \nWear comfortable clothing\, and don’t forget to bring your mat or towel. Come experience the benefits of yoga in a supportive and welcoming environment. \n  \n 
URL:https://www.law.cuny.edu/event/trauma-informed-yoga-program-fall-2024-5/
CATEGORIES:Health & Wellness,Student,Student Affairs
END:VEVENT
BEGIN:VEVENT
DTSTART;TZID=America/New_York:20241105T150000
DTEND;TZID=America/New_York:20241105T180000
DTSTAMP:20260421T154655
CREATED:20241010T165332Z
LAST-MODIFIED:20250129T210019Z
UID:10134824-1730818800-1730829600@www.law.cuny.edu
SUMMARY:OWLS Weekly Study and Support Group
DESCRIPTION:Older Wiser Law Students is hosting study and support groups for folks who are looking for help with classes\, navigating student life\, and access to resources. \nMembers of OWLS can show up to study\, seek help troubleshooting or understanding technology / media and app literacy\, discuss ageism on campus\, share ideas and resources\, or just hang out with others who “get it.”
URL:https://www.law.cuny.edu/event/sjp-general-body-meeting-2024-11-05-2/
LOCATION:Room 2-115
CATEGORIES:Meeting
END:VEVENT
BEGIN:VEVENT
DTSTART;TZID=America/New_York:20241105T150000
DTEND;TZID=America/New_York:20241105T180000
DTSTAMP:20260421T154655
CREATED:20241010T165332Z
LAST-MODIFIED:20250129T204204Z
UID:10134637-1730818800-1730829600@www.law.cuny.edu
SUMMARY:OWLS Weekly Study and Support Group
DESCRIPTION:Older Wiser Law Students is hosting study and support groups for folks who are looking for help with classes\, navigating student life\, and access to resources. \nMembers of OWLS can show up to study\, seek help troubleshooting or understanding technology / media and app literacy\, discuss ageism on campus\, share ideas and resources\, or just hang out with others who “get it.”
URL:https://www.law.cuny.edu/event/sjp-general-body-meeting-2024-11-05/
LOCATION:Room 2-115
CATEGORIES:Meeting
END:VEVENT
BEGIN:VEVENT
DTSTART;TZID=America/New_York:20241106T173000
DTEND;TZID=America/New_York:20241106T180000
DTSTAMP:20260421T154655
CREATED:20241016T205831Z
LAST-MODIFIED:20250129T204201Z
UID:10134832-1730914200-1730916000@www.law.cuny.edu
SUMMARY:Weekly Community Meditation
DESCRIPTION:Each Wednesday\, join Pipeline to Justice and Contemplative Lawyering Collective for 30 minutes of mindful meditation in room 1/204. \nAll are welcome. \nDrop in any time in the half hour.
URL:https://www.law.cuny.edu/event/weekly-community-meditation-2024-11-06/
LOCATION:CUNY School of Law Room 1-204
END:VEVENT
BEGIN:VEVENT
DTSTART;TZID=America/New_York:20241107T150000
DTEND;TZID=America/New_York:20241107T180000
DTSTAMP:20260421T154655
CREATED:20241010T165332Z
LAST-MODIFIED:20250129T204158Z
UID:10134645-1730991600-1731002400@www.law.cuny.edu
SUMMARY:OWLS Weekly Study and Support Group
DESCRIPTION:Older Wiser Law Students is hosting study and support groups for folks who are looking for help with classes\, navigating student life\, and access to resources. \nMembers of OWLS can show up to study\, seek help troubleshooting or understanding technology / media and app literacy\, discuss ageism on campus\, share ideas and resources\, or just hang out with others who “get it.”
URL:https://www.law.cuny.edu/event/sjp-general-body-meeting-2024-11-07/
LOCATION:Room 2-115
CATEGORIES:Meeting
END:VEVENT
BEGIN:VEVENT
DTSTART;TZID=America/New_York:20241111T123000
DTEND;TZID=America/New_York:20241111T131500
DTSTAMP:20260421T154655
CREATED:20241008T183747Z
LAST-MODIFIED:20241008T183747Z
UID:10134814-1731328200-1731330900@www.law.cuny.edu
SUMMARY:Trauma-Informed Yoga Program - Fall 2024
DESCRIPTION:Join our 45-minute yoga classes designed to help you manage stress\, connect with your body\, and make mindful\, movement-based choices. Our beginner-friendly classes are perfect for anyone looking to improve their well-being. \nWear comfortable clothing\, and don’t forget to bring your mat or towel. Come experience the benefits of yoga in a supportive and welcoming environment. \n  \n 
URL:https://www.law.cuny.edu/event/trauma-informed-yoga-program-fall-2024-6/
CATEGORIES:Health & Wellness,Student,Student Affairs
END:VEVENT
BEGIN:VEVENT
DTSTART;TZID=America/New_York:20241111T160000
DTEND;TZID=America/New_York:20241111T170000
DTSTAMP:20260421T154655
CREATED:20241010T164111Z
LAST-MODIFIED:20241010T164111Z
UID:10134632-1731340800-1731344400@www.law.cuny.edu
SUMMARY:Curriculum Committee Meeting
DESCRIPTION:Curriculum Committee Meeting \nRoom 1/205 4p-5p
URL:https://www.law.cuny.edu/event/curriculum-committee-meeting-5/
LOCATION:Room 1-205
CATEGORIES:Meeting
END:VEVENT
BEGIN:VEVENT
DTSTART;TZID=America/New_York:20241112T150000
DTEND;TZID=America/New_York:20241112T180000
DTSTAMP:20260421T154655
CREATED:20241010T165332Z
LAST-MODIFIED:20250129T203853Z
UID:10134639-1731423600-1731434400@www.law.cuny.edu
SUMMARY:OWLS Weekly Study and Support Group
DESCRIPTION:Older Wiser Law Students is hosting study and support groups for folks who are looking for help with classes\, navigating student life\, and access to resources. \nMembers of OWLS can show up to study\, seek help troubleshooting or understanding technology / media and app literacy\, discuss ageism on campus\, share ideas and resources\, or just hang out with others who “get it.”
URL:https://www.law.cuny.edu/event/sjp-general-body-meeting-2024-11-12/
LOCATION:Room 2-115
CATEGORIES:Meeting
END:VEVENT
BEGIN:VEVENT
DTSTART;TZID=America/New_York:20241113T173000
DTEND;TZID=America/New_York:20241113T180000
DTSTAMP:20260421T154655
CREATED:20240926T155319Z
LAST-MODIFIED:20250129T203857Z
UID:10134806-1731519000-1731520800@www.law.cuny.edu
SUMMARY:Meditation
DESCRIPTION:Meditation weekly 5:30-6 Room 1/204
URL:https://www.law.cuny.edu/event/meditation-2024-11-13/
LOCATION:CUNY School of Law Room 1-204
END:VEVENT
BEGIN:VEVENT
DTSTART;TZID=America/New_York:20241113T173000
DTEND;TZID=America/New_York:20241113T180000
DTSTAMP:20260421T154655
CREATED:20241016T205831Z
LAST-MODIFIED:20250129T203902Z
UID:10134833-1731519000-1731520800@www.law.cuny.edu
SUMMARY:Weekly Community Meditation
DESCRIPTION:Each Wednesday\, join Pipeline to Justice and Contemplative Lawyering Collective for 30 minutes of mindful meditation in room 1/204. \nAll are welcome. \nDrop in any time in the half hour.
URL:https://www.law.cuny.edu/event/weekly-community-meditation-2024-11-13/
LOCATION:CUNY School of Law Room 1-204
END:VEVENT
BEGIN:VEVENT
DTSTART;TZID=America/New_York:20241114T150000
DTEND;TZID=America/New_York:20241114T180000
DTSTAMP:20260421T154655
CREATED:20241010T165332Z
LAST-MODIFIED:20250129T203905Z
UID:10134646-1731596400-1731607200@www.law.cuny.edu
SUMMARY:OWLS Weekly Study and Support Group
DESCRIPTION:Older Wiser Law Students is hosting study and support groups for folks who are looking for help with classes\, navigating student life\, and access to resources. \nMembers of OWLS can show up to study\, seek help troubleshooting or understanding technology / media and app literacy\, discuss ageism on campus\, share ideas and resources\, or just hang out with others who “get it.”
URL:https://www.law.cuny.edu/event/sjp-general-body-meeting-2024-11-14/
LOCATION:Room 2-115
CATEGORIES:Meeting
END:VEVENT
BEGIN:VEVENT
DTSTART;TZID=America/New_York:20241114T150000
DTEND;TZID=America/New_York:20241114T180000
DTSTAMP:20260421T154655
CREATED:20241010T165332Z
LAST-MODIFIED:20250129T205301Z
UID:10134820-1731596400-1731607200@www.law.cuny.edu
SUMMARY:OWLS Weekly Study and Support Group
DESCRIPTION:Older Wiser Law Students is hosting study and support groups for folks who are looking for help with classes\, navigating student life\, and access to resources. \nMembers of OWLS can show up to study\, seek help troubleshooting or understanding technology / media and app literacy\, discuss ageism on campus\, share ideas and resources\, or just hang out with others who “get it.”
URL:https://www.law.cuny.edu/event/sjp-general-body-meeting-2024-11-14-2/
LOCATION:Room 2-115
CATEGORIES:Meeting
END:VEVENT
BEGIN:VEVENT
DTSTART;TZID=America/New_York:20241115T130000
DTEND;TZID=America/New_York:20241115T150000
DTSTAMP:20260421T154655
CREATED:20240815T153428Z
LAST-MODIFIED:20240926T184729Z
UID:10134787-1731675600-1731682800@www.law.cuny.edu
SUMMARY:Faculty Meeting
DESCRIPTION:In Community Room \n1:00pm – 3:00pm \nFor proposed agendas & meeting minutes: CLICK HERE
URL:https://www.law.cuny.edu/event/faculty-meeting-3/
LOCATION:CUNY Law Community Room
END:VEVENT
BEGIN:VEVENT
DTSTART;TZID=America/New_York:20241118T123000
DTEND;TZID=America/New_York:20241118T131500
DTSTAMP:20260421T154655
CREATED:20241008T183919Z
LAST-MODIFIED:20241008T183919Z
UID:10134815-1731933000-1731935700@www.law.cuny.edu
SUMMARY:Trauma-Informed Yoga Program - Fall 2024
DESCRIPTION:Join our 45-minute yoga classes designed to help you manage stress\, connect with your body\, and make mindful\, movement-based choices. Our beginner-friendly classes are perfect for anyone looking to improve their well-being. \nWear comfortable clothing\, and don’t forget to bring your mat or towel. Come experience the benefits of yoga in a supportive and welcoming environment. \n  \n 
URL:https://www.law.cuny.edu/event/trauma-informed-yoga-program-fall-2024-7/
CATEGORIES:Health & Wellness,Student,Student Affairs
END:VEVENT
BEGIN:VEVENT
DTSTART;TZID=America/New_York:20241120T173000
DTEND;TZID=America/New_York:20241120T180000
DTSTAMP:20260421T154655
CREATED:20241016T205831Z
LAST-MODIFIED:20250129T203345Z
UID:10134835-1732123800-1732125600@www.law.cuny.edu
SUMMARY:Weekly Community Meditation
DESCRIPTION:Each Wednesday\, join Pipeline to Justice and Contemplative Lawyering Collective for 30 minutes of mindful meditation in room 1/204. \nAll are welcome. \nDrop in any time in the half hour.
URL:https://www.law.cuny.edu/event/weekly-community-meditation-2024-11-20/
LOCATION:CUNY School of Law Room 1-204
END:VEVENT
BEGIN:VEVENT
DTSTART;TZID=America/New_York:20241121T180000
DTEND;TZID=America/New_York:20241121T203000
DTSTAMP:20260421T154655
CREATED:20240909T164306Z
LAST-MODIFIED:20250129T191340Z
UID:10134618-1732212000-1732221000@www.law.cuny.edu
SUMMARY:Burns Chair James Forman Jr. in Conversation: Rolling Back New York's Excessive Sentencing
DESCRIPTION:W. Haywood Burns Chair in Human & Civil Rights\nJames Forman Jr. in Conversation\nRolling Back New York’s Excessive Sentencing\n \n  \nJoin us as we explore judicial\, legislative\, and lawyering interventions to reduce lengthy prison sentences and create second chances for people incarcerated under outdated\, unjust sentencing policies. The discussion will highlight groundbreaking New York legislation that could make the state a leader in second-chance sentencing reform. \n  \nHon. Frederic Block\, Senior Federal Judge\, United States District Court for the Eastern District of New York \nThomas Gant\,  Advocacy & Community Organizer\,  Center for Community Alternatives\, Inc. \nMujahideen Muhammad\, Founder\, The Pillars of Promise \nDavid Singleton\, Associate Professor\, University of District of Columbia David A. Clarke School of Law \nJennifer Soble\, Executive Director\, Illinois Prison Project \nSteve Zeidman\, Professor & Co-Director\, CUNY Law Defenders Clinic and Second Look Project NY \n  \n  \nComplimentary copies of Professor Forman’s Dismantling Mass Incarceration: A Handbook for Change and Judge Block’s A Second Chance: A Federal Judge Decides Who Deserves It will be provided to a limited number of event participants upon registration and attendance \nA reception and book signing will follow the panel. 
URL:https://www.law.cuny.edu/event/burns-chair-james-forman-jr-in-conversation-excessive-sentences-and-second-chances/
LOCATION:CUNY School of Law Auditorium
CATEGORIES:Panel Discussion,Special Event,W. Haywood Burns Chair Event
END:VEVENT
BEGIN:VEVENT
DTSTART;TZID=America/New_York:20241122T143000
DTEND;TZID=America/New_York:20241122T163000
DTSTAMP:20260421T154655
CREATED:20241111T203535Z
LAST-MODIFIED:20241111T203535Z
UID:10134838-1732285800-1732293000@www.law.cuny.edu
SUMMARY:CPR & First Aid Training
DESCRIPTION:CPR & First Training \nRSVP HERE \n2:30-3:30 & 3:30-4:30 \nRoom 3/301 \nRefreshments will be served \n11.22 CPR Flyer
URL:https://www.law.cuny.edu/event/cpr-first-aid-training/
LOCATION:Room 3-301
CATEGORIES:Health & Wellness
END:VEVENT
BEGIN:VEVENT
DTSTART;TZID=America/New_York:20241125T123000
DTEND;TZID=America/New_York:20241125T131500
DTSTAMP:20260421T154655
CREATED:20241008T184100Z
LAST-MODIFIED:20241008T184100Z
UID:10134816-1732537800-1732540500@www.law.cuny.edu
SUMMARY:Trauma-Informed Yoga Program - Fall 2024
DESCRIPTION:Join our 45-minute yoga classes designed to help you manage stress\, connect with your body\, and make mindful\, movement-based choices. Our beginner-friendly classes are perfect for anyone looking to improve their well-being. \nWear comfortable clothing\, and don’t forget to bring your mat or towel. Come experience the benefits of yoga in a supportive and welcoming environment. \n  \n 
URL:https://www.law.cuny.edu/event/trauma-informed-yoga-program-fall-2024-8/
CATEGORIES:Health & Wellness,Student,Student Affairs
END:VEVENT
BEGIN:VEVENT
DTSTART;TZID=America/New_York:20241127T173000
DTEND;TZID=America/New_York:20241127T180000
DTSTAMP:20260421T154655
CREATED:20241016T205831Z
LAST-MODIFIED:20250129T210234Z
UID:10134653-1732728600-1732730400@www.law.cuny.edu
SUMMARY:Weekly Community Meditation
DESCRIPTION:Each Wednesday\, join Pipeline to Justice and Contemplative Lawyering Collective for 30 minutes of mindful meditation in room 1/204. \nAll are welcome. \nDrop in any time in the half hour.
URL:https://www.law.cuny.edu/event/weekly-community-meditation-2024-10-23-2024-11-27-2/
LOCATION:CUNY School of Law Room 1-204
END:VEVENT
BEGIN:VEVENT
DTSTART;TZID=America/New_York:20241127T173000
DTEND;TZID=America/New_York:20241127T180000
DTSTAMP:20260421T154655
CREATED:20241016T205831Z
LAST-MODIFIED:20250129T203909Z
UID:10134834-1732728600-1732730400@www.law.cuny.edu
SUMMARY:Weekly Community Meditation
DESCRIPTION:Each Wednesday\, join Pipeline to Justice and Contemplative Lawyering Collective for 30 minutes of mindful meditation in room 1/204. \nAll are welcome. \nDrop in any time in the half hour.
URL:https://www.law.cuny.edu/event/weekly-community-meditation-2024-11-27/
LOCATION:CUNY School of Law Room 1-204
END:VEVENT
BEGIN:VEVENT
DTSTART;TZID=America/New_York:20241127T173000
DTEND;TZID=America/New_York:20241127T180000
DTSTAMP:20260421T154655
CREATED:20241016T205831Z
LAST-MODIFIED:20250129T205552Z
UID:10134651-1732728600-1732730400@www.law.cuny.edu
SUMMARY:Weekly Community Meditation
DESCRIPTION:Each Wednesday\, join Pipeline to Justice and Contemplative Lawyering Collective for 30 minutes of mindful meditation in room 1/204. \nAll are welcome. \nDrop in any time in the half hour.
URL:https://www.law.cuny.edu/event/weekly-community-meditation-2024-10-23-2024-11-27/
LOCATION:CUNY School of Law Room 1-204
END:VEVENT
END:VCALENDAR