BEGIN:VCALENDAR
VERSION:2.0
PRODID:-//CUNY School of Law - ECPv6.15.14//NONSGML v1.0//EN
CALSCALE:GREGORIAN
METHOD:PUBLISH
X-WR-CALNAME:CUNY School of Law
X-ORIGINAL-URL:https://www.law.cuny.edu
X-WR-CALDESC:Events for CUNY School of Law
REFRESH-INTERVAL;VALUE=DURATION:PT1H
X-Robots-Tag:noindex
X-PUBLISHED-TTL:PT1H
BEGIN:VTIMEZONE
TZID:America/New_York
BEGIN:DAYLIGHT
TZOFFSETFROM:-0500
TZOFFSETTO:-0400
TZNAME:EDT
DTSTART:20220313T070000
END:DAYLIGHT
BEGIN:STANDARD
TZOFFSETFROM:-0400
TZOFFSETTO:-0500
TZNAME:EST
DTSTART:20221106T060000
END:STANDARD
BEGIN:DAYLIGHT
TZOFFSETFROM:-0500
TZOFFSETTO:-0400
TZNAME:EDT
DTSTART:20230312T070000
END:DAYLIGHT
BEGIN:STANDARD
TZOFFSETFROM:-0400
TZOFFSETTO:-0500
TZNAME:EST
DTSTART:20231105T060000
END:STANDARD
BEGIN:DAYLIGHT
TZOFFSETFROM:-0500
TZOFFSETTO:-0400
TZNAME:EDT
DTSTART:20240310T070000
END:DAYLIGHT
BEGIN:STANDARD
TZOFFSETFROM:-0400
TZOFFSETTO:-0500
TZNAME:EST
DTSTART:20241103T060000
END:STANDARD
END:VTIMEZONE
BEGIN:VEVENT
DTSTART;TZID=America/New_York:20230918T120000
DTEND;TZID=America/New_York:20230918T130000
DTSTAMP:20260421T160705
CREATED:20230917T190738Z
LAST-MODIFIED:20230917T190738Z
UID:10134640-1695038400-1695042000@www.law.cuny.edu
SUMMARY:Lalsaween Tabling
DESCRIPTION:We will be sitting at a table selling tickets for our fundraiser next month Lalsaween.
URL:https://www.law.cuny.edu/event/lalsaween-tabling-2/
LOCATION:CUNY School of Law
CATEGORIES:Special Event
END:VEVENT
BEGIN:VEVENT
DTSTART;TZID=America/New_York:20230918T133000
DTEND;TZID=America/New_York:20230918T143000
DTSTAMP:20260421T160705
CREATED:20230906T112915Z
LAST-MODIFIED:20230908T152939Z
UID:10134485-1695043800-1695047400@www.law.cuny.edu
SUMMARY:In-person organizational meeting for CUNY Law Curriculum Committee
DESCRIPTION:[vc_row][vc_column][vc_column_text]This first meeting of the Curriculum Committee meeting in the Fall 2023 semester will discuss Committee charges and constitute subcommittees in the area of Bar Support/Next Gen Bar Exam; Evening Program; Lawyering Seminar 3 review; Implications of AI for the curriculum; and Electives (Topics in Law review\, and aspects of curricular proposals to add to Indigenous Americans and the Law).[/vc_column_text][/vc_column][/vc_row]
URL:https://www.law.cuny.edu/event/in-person-organizational-meeting-for-cuny-law-curriculum-committee/
LOCATION:2 Ct Square W\, Long Island City\, 11101\, United States
CATEGORIES:Meeting
END:VEVENT
BEGIN:VEVENT
DTSTART;TZID=America/New_York:20230920T140000
DTEND;TZID=America/New_York:20230920T153000
DTSTAMP:20260421T160705
CREATED:20230922T214213Z
LAST-MODIFIED:20230922T214213Z
UID:10134677-1695218400-1695223800@www.law.cuny.edu
SUMMARY:1L Practice Criminal Law Hypothetical Review: SECTION 2
DESCRIPTION:REVIEW OF CAR STRIPPING PRACTICE HYPO: SECTION 2 ONLY
URL:https://www.law.cuny.edu/event/1l-practice-criminal-law-hypothetical-review-section-2/
LOCATION:Cardozo School of Law
CATEGORIES:Info Session
END:VEVENT
BEGIN:VEVENT
DTSTART;TZID=America/New_York:20230920T171500
DTEND;TZID=America/New_York:20230920T183000
DTSTAMP:20260421T160705
CREATED:20230917T190952Z
LAST-MODIFIED:20230917T190952Z
UID:10134643-1695230100-1695234600@www.law.cuny.edu
SUMMARY:First General Body Meeting!!!
DESCRIPTION:Welcome to the new (or your first) school year from the Housing Rights Project! \nIf you are interested in working towards Housing Justice\, whether it is through eviction defense or Community Land Trust development\, you should come to our first General Meeting! \nThe meeting will be 5:15pm on Wednesday\, September 20th in Room 2/112. We will be discussing our plans for the year\, such as an October panel on Tenant Collective Bargaining Rights\, as well as opportunities for students\, like the Legal Aid Housing Helpline volunteer opportunity. So come out\, have some pizza\, hear the plans\, and bring your own suggestions!|
URL:https://www.law.cuny.edu/event/first-general-body-meeting/
LOCATION:Room 2-112
CATEGORIES:Meeting
END:VEVENT
BEGIN:VEVENT
DTSTART;TZID=America/New_York:20230921T120000
DTEND;TZID=America/New_York:20230921T180000
DTSTAMP:20260421T160705
CREATED:20230917T190343Z
LAST-MODIFIED:20230917T190343Z
UID:10134638-1695297600-1695319200@www.law.cuny.edu
SUMMARY:Lalsaween Tabling
DESCRIPTION:We will be selling tickets at a table for our fundraiser next month Lalsaween.
URL:https://www.law.cuny.edu/event/lalsaween-tabling/
LOCATION:CUNY School of Law
CATEGORIES:Special Event
END:VEVENT
BEGIN:VEVENT
DTSTART;TZID=America/New_York:20230922T180000
DTEND;TZID=America/New_York:20230922T180000
DTSTAMP:20260421T160705
CREATED:20230922T214950Z
LAST-MODIFIED:20230922T214950Z
UID:10134678-1695405600-1695405600@www.law.cuny.edu
SUMMARY:BLSA x Pipeline to Justice Mentorship Mixer
DESCRIPTION:CUNY BLSA x Pipeline to Justice Program is excited to invite you to our upcoming Mentorship Mixer THIS FRIDAY\, where you will have the chance to meet 2023-2024 Mentorship participants as well as interact with CUNY faculty and students involved in various student organizations. This event will be a fun\, low-key\, and stress-free setting for everyone to connect and build valuable relationships.
URL:https://www.law.cuny.edu/event/blsa-x-pipeline-to-justice-mentorship-mixer/
LOCATION:CUNY Law Community Room
CATEGORIES:Meeting
END:VEVENT
END:VCALENDAR