BEGIN:VCALENDAR
VERSION:2.0
PRODID:-//CUNY School of Law - ECPv6.15.14//NONSGML v1.0//EN
CALSCALE:GREGORIAN
METHOD:PUBLISH
X-WR-CALNAME:CUNY School of Law
X-ORIGINAL-URL:https://www.law.cuny.edu
X-WR-CALDESC:Events for CUNY School of Law
REFRESH-INTERVAL;VALUE=DURATION:PT1H
X-Robots-Tag:noindex
X-PUBLISHED-TTL:PT1H
BEGIN:VTIMEZONE
TZID:America/New_York
BEGIN:DAYLIGHT
TZOFFSETFROM:-0500
TZOFFSETTO:-0400
TZNAME:EDT
DTSTART:20220313T070000
END:DAYLIGHT
BEGIN:STANDARD
TZOFFSETFROM:-0400
TZOFFSETTO:-0500
TZNAME:EST
DTSTART:20221106T060000
END:STANDARD
BEGIN:DAYLIGHT
TZOFFSETFROM:-0500
TZOFFSETTO:-0400
TZNAME:EDT
DTSTART:20230312T070000
END:DAYLIGHT
BEGIN:STANDARD
TZOFFSETFROM:-0400
TZOFFSETTO:-0500
TZNAME:EST
DTSTART:20231105T060000
END:STANDARD
BEGIN:DAYLIGHT
TZOFFSETFROM:-0500
TZOFFSETTO:-0400
TZNAME:EDT
DTSTART:20240310T070000
END:DAYLIGHT
BEGIN:STANDARD
TZOFFSETFROM:-0400
TZOFFSETTO:-0500
TZNAME:EST
DTSTART:20241103T060000
END:STANDARD
END:VTIMEZONE
BEGIN:VEVENT
DTSTART;TZID=America/New_York:20231011T120000
DTEND;TZID=America/New_York:20231011T130000
DTSTAMP:20260421T143034
CREATED:20231002T130754Z
LAST-MODIFIED:20250129T205008Z
UID:10134680-1697025600-1697029200@www.law.cuny.edu
SUMMARY:Mental Health Awareness Check-In
DESCRIPTION:Together\, we can make a difference in our own lives and those around us. Let’s break the stigma\, promote well-being\, and foster a supportive environment where everyone thrives. \n🗣️ Engage in open dialogues on mental health. \n🤝 Reach out and support one another. \n🧠 Check-in on your mental health via E-Check-Up online \n#MentalHealthMatters #StrongerTogether #LawSchoolWellness
URL:https://www.law.cuny.edu/event/mental-health-awareness-check-in-2023-10-11/
LOCATION:CUNY School of Law
CATEGORIES:Info Session
END:VEVENT
BEGIN:VEVENT
DTSTART;TZID=America/New_York:20231011T120000
DTEND;TZID=America/New_York:20231011T150000
DTSTAMP:20260421T143034
CREATED:20230917T191220Z
LAST-MODIFIED:20230917T191220Z
UID:10134657-1697025600-1697036400@www.law.cuny.edu
SUMMARY:Empanada Sale Fundraiser
DESCRIPTION:We are organizing an Empanada Fundraiser with two primary objectives: \n1. To celebrate and promote Latinx culture by sharing empanadas with the CUNY Law community\, allowing everyone to experience the flavors of our rich heritage. \n2. To raise funds for two important causes: supporting LALSA\, the student club dedicated to Latinx advocacy and culture\, and contributing to the summer grants that LALSA provides to students pursuing their educational and professional goals during the summer months.
URL:https://www.law.cuny.edu/event/empanada-sale-fundraiser/
LOCATION:CUNY School of Law
CATEGORIES:Special Event
END:VEVENT
BEGIN:VEVENT
DTSTART;TZID=America/New_York:20231011T140000
DTEND;TZID=America/New_York:20231011T153000
DTSTAMP:20260421T143034
CREATED:20230917T191702Z
LAST-MODIFIED:20230927T124939Z
UID:10134659-1697032800-1697038200@www.law.cuny.edu
SUMMARY:Investigating Families: Motherhood in the Shadow of Child Protective Services
DESCRIPTION:The Family Defense Clinic is thrilled to welcome Kelley Fong\, sociology professor at the University of California – Irvine to discuss her newly released book\, Investigating Families: Motherhood in the Shadow of Child Protective Services.
URL:https://www.law.cuny.edu/event/investigating-families-motherhood-in-the-shadow-of-child-protective-services/
LOCATION:CUNY School of Law
CATEGORIES:Panel Discussion
END:VEVENT
BEGIN:VEVENT
DTSTART;TZID=America/New_York:20231011T143000
DTEND;TZID=America/New_York:20231011T160000
DTSTAMP:20260421T143034
CREATED:20231006T160614Z
LAST-MODIFIED:20231006T160614Z
UID:10134695-1697034600-1697040000@www.law.cuny.edu
SUMMARY:1L Full Time Section 2 Skills Session
DESCRIPTION:Midterm Review
URL:https://www.law.cuny.edu/event/1l-full-time-section-2-skills-session/
LOCATION:Dave Fields Auditorium\, Fl 3
CATEGORIES:Workshop
END:VEVENT
BEGIN:VEVENT
DTSTART;TZID=America/New_York:20231011T170000
DTEND;TZID=America/New_York:20231011T183000
DTSTAMP:20260421T143034
CREATED:20231002T131803Z
LAST-MODIFIED:20231002T131803Z
UID:10134688-1697043600-1697049000@www.law.cuny.edu
SUMMARY:Mock Trial First General Body Meeting
DESCRIPTION:Join Mock Trial for our first membership meeting of the semester! We will be covering upcoming events\, possible Mock Trial Competitions\, and More!
URL:https://www.law.cuny.edu/event/mock-trial-first-general-body-meeting/
LOCATION:CUNY School of Law
CATEGORIES:Meeting
END:VEVENT
BEGIN:VEVENT
DTSTART;TZID=America/New_York:20231012T110000
DTEND;TZID=America/New_York:20231012T180000
DTSTAMP:20260421T143034
CREATED:20230821T143616Z
LAST-MODIFIED:20230901T165926Z
UID:10134624-1697108400-1697133600@www.law.cuny.edu
SUMMARY:CUNY BMI Day
DESCRIPTION:Visit the CUNY Black Male Initiative’s table in the Cafe Area to learn about how this important program impacts CUNY students and contributes to diversity and equity CUNY-wide. The CUNY BMI Pipeline to Justice program will host this event. Snacks provided.
URL:https://www.law.cuny.edu/event/cuny-bmi-day/
LOCATION:2 Ct Square W\, Long Island City\, 11101\, United States
CATEGORIES:Info Session,Special Event
END:VEVENT
BEGIN:VEVENT
DTSTART;TZID=America/New_York:20231012T120000
DTEND;TZID=America/New_York:20231012T140000
DTSTAMP:20260421T143034
CREATED:20231002T131710Z
LAST-MODIFIED:20231002T131710Z
UID:10134687-1697112000-1697119200@www.law.cuny.edu
SUMMARY:Lalsaween Tabling
DESCRIPTION:We will be selling tickets and raising awareness for our fundraiser Lalsaween.
URL:https://www.law.cuny.edu/event/lalsaween-tabling-5/
LOCATION:CUNY School of Law
CATEGORIES:Info Session
END:VEVENT
BEGIN:VEVENT
DTSTART;TZID=America/New_York:20231012T120000
DTEND;TZID=America/New_York:20231012T140000
DTSTAMP:20260421T143034
CREATED:20231011T151032Z
LAST-MODIFIED:20231011T192103Z
UID:10134509-1697112000-1697119200@www.law.cuny.edu
SUMMARY:Black Male Initiative Day Panel
DESCRIPTION:This event is being organized for Black Male Initiative Day at CUNY Law. Black Male Initiative Day is a CUNY-wide event that is celebrated in different way at every campus. At CUNY Law this year\, the CUNY Law Men of Color Collective has organized a panel consisting of three Black professors at the law school: Professor and current W. Haywood Burns Chair in Human & Civil Rights Vince Warren\, Exec. Director of the Center for Constitional Rights; Professor Marbre Stahly-Butts\, Co-founder of Law for Black Lives; and Professor Amanda David\, Former Director for Strategic Litigation for Federal Defenders of New York. They will speak on their experience in law school and the legal profession in order to give current and prospective students space to process the difficulties and barriers that people of color face in the legal profession.
URL:https://www.law.cuny.edu/event/black-male-initiative-day-panel/
LOCATION:Room 3-302\, 2 COURT SQ\, Long Island City\, NY\, 11101\, United States
CATEGORIES:Panel Discussion
END:VEVENT
BEGIN:VEVENT
DTSTART;TZID=America/New_York:20231012T180000
DTEND;TZID=America/New_York:20231012T200000
DTSTAMP:20260421T143034
CREATED:20231011T144906Z
LAST-MODIFIED:20231011T193025Z
UID:10134508-1697133600-1697140800@www.law.cuny.edu
SUMMARY:National Consortium of Public Interest Law Schools Fall Reception
DESCRIPTION:Join CUNY Law’s Office of Admissions for the National Consortium of Public Interest Law Schools (NCPILS) Fall Reception on Thursday\, October 12 at the CUNY School of Law. This reception provides a forum where prospective students can speak with law school representatives in an informal setting to learn more about public service opportunities and to ask questions about the law school admissions process.
URL:https://www.law.cuny.edu/event/public-interest-law-reception/
LOCATION:The Beacon\, First Floor Blvd
CATEGORIES:Special Event
END:VEVENT
BEGIN:VEVENT
DTSTART;TZID=America/New_York:20231013T140000
DTEND;TZID=America/New_York:20231013T150000
DTSTAMP:20260421T143034
CREATED:20231012T215109Z
LAST-MODIFIED:20250129T205004Z
UID:10134696-1697205600-1697209200@www.law.cuny.edu
SUMMARY:BIPOC Student Support Group - Friday
DESCRIPTION:This mental wellness support group aims to create a safe and empathetic space specifically designed for BIPOC individuals\, especially those who are the first in their families to attend college and then pursue a legal career.
URL:https://www.law.cuny.edu/event/bipoc-student-support-group-friday/
LOCATION:Zoom
END:VEVENT
BEGIN:VEVENT
DTSTART;TZID=America/New_York:20231013T150000
DTEND;TZID=America/New_York:20231013T153000
DTSTAMP:20260421T143034
CREATED:20231006T155736Z
LAST-MODIFIED:20231006T155736Z
UID:10134693-1697209200-1697211000@www.law.cuny.edu
SUMMARY:PILA Fellowship Info Session
DESCRIPTION:Applying for an unpaid public interest internship this summer? Looking for scholarships? \nWe can help! \nThe Public Interest Law Association (PILA) will be holding a virtual informational meeting on Friday\, October 13 at 3:00pm about the PILA Fellowship. \nAll 1Ls\, 2Ls\, and 3Ls (PT) are invited to attend. Join the Zoom link (below) to get answers to Frequently Asked Questions. \nPILA is a student-led group that organizes an annual premier event in the spring semester\, during which we honor icons in the public interest legal and related fields. The proceeds from the premier event are distributed amongst PILA Fellows who assisted in the planning\, ticket sales\, donation solicitation\, and execution of the premier event. \nAt the informational meeting\, we will be explaining the application process\, the time commitment\, and the general plan for our upcoming premier event. We will also answer any and all questions that students may have about PILA. \nWe look forward to meeting you! \nhttps://zoom.us/j/98983494003?pwd=SmZmamkrc21DUEZaMkxtOXIyL2piUT09 \nPILA 2023-2024 Board
URL:https://www.law.cuny.edu/event/pila-fellowship-info-session/
LOCATION:Zoom
CATEGORIES:Info Session
END:VEVENT
END:VCALENDAR