BEGIN:VCALENDAR
VERSION:2.0
PRODID:-//CUNY School of Law - ECPv6.15.14//NONSGML v1.0//EN
CALSCALE:GREGORIAN
METHOD:PUBLISH
X-WR-CALNAME:CUNY School of Law
X-ORIGINAL-URL:https://www.law.cuny.edu
X-WR-CALDESC:Events for CUNY School of Law
REFRESH-INTERVAL;VALUE=DURATION:PT1H
X-Robots-Tag:noindex
X-PUBLISHED-TTL:PT1H
BEGIN:VTIMEZONE
TZID:America/New_York
BEGIN:DAYLIGHT
TZOFFSETFROM:-0500
TZOFFSETTO:-0400
TZNAME:EDT
DTSTART:20220313T070000
END:DAYLIGHT
BEGIN:STANDARD
TZOFFSETFROM:-0400
TZOFFSETTO:-0500
TZNAME:EST
DTSTART:20221106T060000
END:STANDARD
BEGIN:DAYLIGHT
TZOFFSETFROM:-0500
TZOFFSETTO:-0400
TZNAME:EDT
DTSTART:20230312T070000
END:DAYLIGHT
BEGIN:STANDARD
TZOFFSETFROM:-0400
TZOFFSETTO:-0500
TZNAME:EST
DTSTART:20231105T060000
END:STANDARD
BEGIN:DAYLIGHT
TZOFFSETFROM:-0500
TZOFFSETTO:-0400
TZNAME:EDT
DTSTART:20240310T070000
END:DAYLIGHT
BEGIN:STANDARD
TZOFFSETFROM:-0400
TZOFFSETTO:-0500
TZNAME:EST
DTSTART:20241103T060000
END:STANDARD
END:VTIMEZONE
BEGIN:VEVENT
DTSTART;TZID=America/New_York:20231023T130000
DTEND;TZID=America/New_York:20231023T140000
DTSTAMP:20260421T150412
CREATED:20231011T194023Z
LAST-MODIFIED:20231011T194023Z
UID:10134515-1698066000-1698069600@www.law.cuny.edu
SUMMARY:CUNY Law Curriculum Committee Meeting
DESCRIPTION:Expected reports from the following subcommittees: AI and the Curriculum\, Bar Support and Next Gen Bar\, PT Evening Program\, Lawyering Seminar 3
URL:https://www.law.cuny.edu/event/cuny-law-curriculum-committee-meeting-2/
LOCATION:2 Ct Square W\, Long Island City\, 11101\, United States
CATEGORIES:Meeting
END:VEVENT
BEGIN:VEVENT
DTSTART;TZID=America/New_York:20231023T140000
DTEND;TZID=America/New_York:20231023T150000
DTSTAMP:20260421T150412
CREATED:20231020T184402Z
LAST-MODIFIED:20231020T184402Z
UID:10134712-1698069600-1698073200@www.law.cuny.edu
SUMMARY:CUNY Recess Session
DESCRIPTION:Along with Student Affairs and BLSA\, we will be hosting a workshop on how to crochet as well as other Fall related seasonal crafts.  It will be a great opportunity to take a break and engage with community in a relaxed and fun environment.  As always\, snacks will be provided.
URL:https://www.law.cuny.edu/event/cuny-recess-session/
LOCATION:CUNY Law Community Room
CATEGORIES:Special Event
END:VEVENT
BEGIN:VEVENT
DTSTART;TZID=America/New_York:20231023T140000
DTEND;TZID=America/New_York:20231023T160000
DTSTAMP:20260421T150412
CREATED:20231017T152918Z
LAST-MODIFIED:20231017T152918Z
UID:10134701-1698069600-1698076800@www.law.cuny.edu
SUMMARY:Asian Pacific American Law Students Association (APALSA) General Meeting
DESCRIPTION:Meet the board and members! We’ll discuss upcoming events. Come for snacks!
URL:https://www.law.cuny.edu/event/asian-pacific-american-law-students-association-apalsa-general-meeting/
LOCATION:Room 3-301
END:VEVENT
BEGIN:VEVENT
DTSTART;TZID=America/New_York:20231023T170000
DTEND;TZID=America/New_York:20231023T193000
DTSTAMP:20260421T150412
CREATED:20231017T154047Z
LAST-MODIFIED:20231017T154047Z
UID:10134703-1698080400-1698089400@www.law.cuny.edu
SUMMARY:Mock Trial Club's Movie Night
DESCRIPTION:Please come join the CUNY Law Mock Trial Club to the screening the popular movie “LEGALLY BLONDE”. Come in and unwind\, relax\, and laugh with us.
URL:https://www.law.cuny.edu/event/mock-trial-clubs-movie-night/
LOCATION:Community Room
CATEGORIES:Special Event
END:VEVENT
BEGIN:VEVENT
DTSTART;TZID=America/New_York:20231023T220000
DTEND;TZID=America/New_York:20231023T230000
DTSTAMP:20260421T150412
CREATED:20231018T205650Z
LAST-MODIFIED:20250129T204954Z
UID:10134708-1698098400-1698102000@www.law.cuny.edu
SUMMARY:Bar Buddies Support Group - Mondays
DESCRIPTION:This law student support group is designed to promote the overall well-being and mental health of individuals pursuing a legal education.
URL:https://www.law.cuny.edu/event/bar-buddies-support-group-mondays/
LOCATION:Zoom
CATEGORIES:Health & Wellness
END:VEVENT
BEGIN:VEVENT
DTSTART;TZID=America/New_York:20231024T173000
DTEND;TZID=America/New_York:20231024T193000
DTSTAMP:20260421T150412
CREATED:20231011T192904Z
LAST-MODIFIED:20231011T192904Z
UID:10134511-1698168600-1698175800@www.law.cuny.edu
SUMMARY:Law and Political Economy General Meeting
DESCRIPTION:Join LPE CUNY Law in room 2|116 for our second general meeting were will discuss upcoming events and projects. This month’s Skill Share topic: Student Government and You
URL:https://www.law.cuny.edu/event/law-and-political-economy-general-meeting/
LOCATION:Room 2-116
CATEGORIES:Meeting
END:VEVENT
BEGIN:VEVENT
DTSTART;TZID=America/New_York:20231024T180000
DTEND;TZID=America/New_York:20231024T193000
DTSTAMP:20260421T150412
CREATED:20231004T182923Z
LAST-MODIFIED:20231020T141116Z
UID:10134689-1698170400-1698175800@www.law.cuny.edu
SUMMARY:Alumni Stakeholder Meeting on Looking Back\, Moving Forward: Building a New Strategic Plan
DESCRIPTION:CUNY Law is undertaking a strategic planning process—its first in almost a decade.  Through this process\, we hope to better understand how we can continue to fulfill our institutional mission and how we can better prepare our students for the future of the profession. These conversations will help us think through how we might change aspects of our curriculum\, improve our co-curricular support and offerings\, prioritize new and existing programs and initiatives\, and improve the ways in which we support the law school community. \nAs members of the law school’s alumni community\, you have critical insight and perspective that will be key in helping us to devise this new strategic plan. To that end\, we’d like to invite you to join us to take part in a Strategic Planning Committee alumni stakeholder meeting.  This meeting will be primarily a listening session for the committee members as our primary goal is to gather information from you all\, our alumni community\, as to what you believe should be included in our strategic plan and how the law school should be moving forward. \nIn the event that you are unable to attend the live alumni listening session\, we welcome your responses via a survey\, which you can request by emailing this address: Strategic.Planning@law.cuny.edu \nAll requests for a survey must be received by 10/25/2023. Soon after\, a link will be shared to the survey\, and you will have until 5 pm on completed 10/31/2023 to submit your responses.
URL:https://www.law.cuny.edu/event/alumni-stakeholder-meeting-on-looking-back-moving-forward-building-a-new-strategic-plan/
LOCATION:Zoom
CATEGORIES:Alumni
END:VEVENT
BEGIN:VEVENT
DTSTART;TZID=America/New_York:20231025T170000
DTEND;TZID=America/New_York:20231025T181000
DTSTAMP:20260421T150412
CREATED:20231017T215021Z
LAST-MODIFIED:20231017T215340Z
UID:10134702-1698253200-1698257400@www.law.cuny.edu
SUMMARY:Lawyering Seminar III Informational Session (Zoom)
DESCRIPTION:2L Ft and 2L PT info session about spring Lawyering Seminar III offerings. \nVia Zoom \nZoom link to be sent via email
URL:https://www.law.cuny.edu/event/lawyering-seminar-iii-informational-session/
LOCATION:CUNY School of Law
END:VEVENT
BEGIN:VEVENT
DTSTART;TZID=America/New_York:20231025T173000
DTEND;TZID=America/New_York:20231025T181500
DTSTAMP:20260421T150412
CREATED:20230825T140802Z
LAST-MODIFIED:20231005T172533Z
UID:10134477-1698255000-1698257700@www.law.cuny.edu
SUMMARY:Coffee with Dean Sudha Setty
DESCRIPTION:[vc_row][vc_column][vc_column_text]Students\, faculty\, and staff are invited to gather for coffee and conversation with Dean Sudha Setty. Stop by the 2nd floor lobby\, grab a cup\, and stay if you like![/vc_column_text][/vc_column][/vc_row]
URL:https://www.law.cuny.edu/event/coffee-with-dean-sudha-setty-5/
LOCATION:2 Ct Square W\, Long Island City\, 11101\, United States
CATEGORIES:Dean's Office,Meeting,Networking Event,Special Event
END:VEVENT
BEGIN:VEVENT
DTSTART;TZID=America/New_York:20231025T173000
DTEND;TZID=America/New_York:20231025T183000
DTSTAMP:20260421T150412
CREATED:20231002T130754Z
LAST-MODIFIED:20231018T211128Z
UID:10134682-1698255000-1698258600@www.law.cuny.edu
SUMMARY:Mental Health Awareness Check-In
DESCRIPTION:Together\, we can make a difference in our own lives and those around us. Let’s break the stigma\, promote well-being\, and foster a supportive environment where everyone thrives. \n🗣️ Engage in open dialogues on mental health. \n🤝 Reach out and support one another. \n#MentalHealthMatters #StrongerTogether #LawSchoolWellness
URL:https://www.law.cuny.edu/event/mental-health-awareness-check-in-2023-10-25/
LOCATION:CUNY School of Law
CATEGORIES:Info Session
END:VEVENT
BEGIN:VEVENT
DTSTART;TZID=America/New_York:20231025T180000
DTEND;TZID=America/New_York:20231025T193000
DTSTAMP:20260421T150412
CREATED:20231020T170229Z
LAST-MODIFIED:20231020T170229Z
UID:10134711-1698256800-1698262200@www.law.cuny.edu
SUMMARY:Sorensen Center: LGBTQ+ Litigation and Advocacy Updates in East Asia
DESCRIPTION:Join legal experts for a discussion on the developing landscape of LGBTQ+ rights and protections in East Asia. \nJoin Glenn Magpantay (Commissioner\, U.S. Commission on Civil Rights)\, Jennifer Lu (Director of Asia Program\, Outright International)\, Joy Chia (Executive Director\, Astraea Lesbian Foundation for Justice)\, and Michael Heflin (Global Grants Director\, Outright International) for a discussion on recent updates to LGBTQ+ litigation and advocacy in East Asia. Cynthia Cheng-Wun Weaver (Senior Director of Litigation\, Human Rights Campaign) will moderate. \nRegister now: http://tinyurl.com/eastasialitupdates! \nCLE Credits provided by Community Legal Resource Network at CUNY School of Law\nThis CLE program is approved for both experienced and newly admitted attorneys. Under Continuing Legal Education regulations\, CLE credit will be offered only to those attorneys completing entire sessions; attorneys attending only part of a session are not eligible for partial credit. Attorneys arriving late are welcome to attend the program but will not be eligible for credit. Also note that for remote trainings\, attorneys must attend on the webinar; we cannot extend credit for audio only.
URL:https://www.law.cuny.edu/event/sorensen-center-lgbtq-litigation-and-advocacy-updates-in-east-asia/
LOCATION:CUNY School of Law
CATEGORIES:CLE - Continuing Legal Education,Speaker,Special Event
END:VEVENT
BEGIN:VEVENT
DTSTART;TZID=America/New_York:20231026T120000
DTEND;TZID=America/New_York:20231026T140000
DTSTAMP:20260421T150412
CREATED:20231020T224825Z
LAST-MODIFIED:20231020T224825Z
UID:10134713-1698321600-1698328800@www.law.cuny.edu
SUMMARY:International Webinar: A Glimpse into Lives Lived Under Siege
DESCRIPTION:Webinar that shares personal stories of Palestinians living under occupation.
URL:https://www.law.cuny.edu/event/international-webinar-a-glimpse-into-lives-lived-under-siege/
LOCATION:Room 3-302\, 2 COURT SQ\, Long Island City\, NY\, 11101\, United States
CATEGORIES:Special Event,Webinar
END:VEVENT
BEGIN:VEVENT
DTSTART;TZID=America/New_York:20231026T170000
DTEND;TZID=America/New_York:20231026T181500
DTSTAMP:20260421T150412
CREATED:20231006T155421Z
LAST-MODIFIED:20231006T155421Z
UID:10134692-1698339600-1698344100@www.law.cuny.edu
SUMMARY:""Legal Harmony: Exploring Entertainment Law with Kamesha Lauren""
DESCRIPTION:Kamesha Laurry is in-house counsel for the New Yorker magazine\, where she is responsible for pre-publication review relating to all publicized content\, including articles\, website and social media posts\, videos\, as well as supervising legal issues th
URL:https://www.law.cuny.edu/event/legal-harmony-exploring-entertainment-law-with-kamesha-lauren/
LOCATION:CUNY School of Law
CATEGORIES:Special Event
END:VEVENT
BEGIN:VEVENT
DTSTART;TZID=America/New_York:20231026T180000
DTEND;TZID=America/New_York:20231026T200000
DTSTAMP:20260421T150412
CREATED:20230921T033200Z
LAST-MODIFIED:20231017T201125Z
UID:10134665-1698343200-1698350400@www.law.cuny.edu
SUMMARY:W. Haywood Burns Chair Lecture Series: The Revolution Will Not Be Litigated Panel Discussion
DESCRIPTION:Vince Warren\, 2023-24 W. Haywood Burns Chair in Human and Civil Rights\, will lead a panel discussion with contributors to the book\, The Revolution Will Not Be Litigated: People Power and Legal Power in the 21st Century\, a collection of stories about the relationship between social movements and the law. Panelists will include Alejandra Ancheita\, Founder and Executive Director of the Mexico City-based NGO ProDESC (The Economic\, Social and Cultural Rights Project); Baher Azmy\, Legal Director\, Center for Constitutional Rights; Justin Hansford\, Professor of Law and Executive Director of the Thurgood Marshall Civil Rights Center at Howard University School of Law; and Katie Redford\, Executive Director of Equation Campaign. These lawyers and activists on the frontlines of human rights issues around the world will share stories of their own and others’ struggles for social justice and how positive impact happens even in the face of resistance. \nA complimentary copy of the book will be provided to a limited number of event participants upon registration and attendance.
URL:https://www.law.cuny.edu/event/w-haywood-burns-chair-lecture-series-the-revolution-will-not-be-litigated-book-talk-panel/
LOCATION:CUNY Law Community Room
CATEGORIES:Panel Discussion,Special Event,W. Haywood Burns Chair Event
END:VEVENT
BEGIN:VEVENT
DTSTART;TZID=America/New_York:20231026T210000
DTEND;TZID=America/New_York:20231026T220000
DTSTAMP:20260421T150412
CREATED:20231018T210224Z
LAST-MODIFIED:20231018T210325Z
UID:10134709-1698354000-1698357600@www.law.cuny.edu
SUMMARY:Virtual Wellness Workshop - Sleep Hygiene
DESCRIPTION:Learn sleep-enhancing strategies\, from a relaxing bedtime routine to optimizing your sleep environment. Say goodbye to sleepless nights and hello to refreshed mornings.
URL:https://www.law.cuny.edu/event/virtual-wellness-workshop-sleep-hygiene/
LOCATION:Zoom
CATEGORIES:Workshop
END:VEVENT
BEGIN:VEVENT
DTSTART;TZID=America/New_York:20231027T190000
DTEND;TZID=America/New_York:20231027T223000
DTSTAMP:20260421T150412
CREATED:20230922T220721Z
LAST-MODIFIED:20231017T200055Z
UID:10134496-1698433200-1698445800@www.law.cuny.edu
SUMMARY:Lalsaween
DESCRIPTION:Lalsaween is LALSA’s biggest fundraiser where we serve food drinks have music and raffles and raise money for summer grants for students.
URL:https://www.law.cuny.edu/event/lalsaween/
LOCATION:Community Room
CATEGORIES:Special Event
END:VEVENT
END:VCALENDAR