BEGIN:VCALENDAR
VERSION:2.0
PRODID:-//CUNY School of Law - ECPv6.15.14//NONSGML v1.0//EN
CALSCALE:GREGORIAN
METHOD:PUBLISH
X-WR-CALNAME:CUNY School of Law
X-ORIGINAL-URL:https://www.law.cuny.edu
X-WR-CALDESC:Events for CUNY School of Law
REFRESH-INTERVAL;VALUE=DURATION:PT1H
X-Robots-Tag:noindex
X-PUBLISHED-TTL:PT1H
BEGIN:VTIMEZONE
TZID:America/New_York
BEGIN:DAYLIGHT
TZOFFSETFROM:-0500
TZOFFSETTO:-0400
TZNAME:EDT
DTSTART:20230312T070000
END:DAYLIGHT
BEGIN:STANDARD
TZOFFSETFROM:-0400
TZOFFSETTO:-0500
TZNAME:EST
DTSTART:20231105T060000
END:STANDARD
BEGIN:DAYLIGHT
TZOFFSETFROM:-0500
TZOFFSETTO:-0400
TZNAME:EDT
DTSTART:20240310T070000
END:DAYLIGHT
BEGIN:STANDARD
TZOFFSETFROM:-0400
TZOFFSETTO:-0500
TZNAME:EST
DTSTART:20241103T060000
END:STANDARD
BEGIN:DAYLIGHT
TZOFFSETFROM:-0500
TZOFFSETTO:-0400
TZNAME:EDT
DTSTART:20250309T070000
END:DAYLIGHT
BEGIN:STANDARD
TZOFFSETFROM:-0400
TZOFFSETTO:-0500
TZNAME:EST
DTSTART:20251102T060000
END:STANDARD
END:VTIMEZONE
BEGIN:VEVENT
DTSTART;TZID=America/New_York:20240123T130000
DTEND;TZID=America/New_York:20240123T160000
DTSTAMP:20260421T141144
CREATED:20231128T213024Z
LAST-MODIFIED:20231128T213024Z
UID:10134558-1706014800-1706025600@www.law.cuny.edu
SUMMARY:The Climate Crisis: Constitutional and Human Rights Jurisprudence (CLE)
DESCRIPTION:With climate change becoming an ever present threat\, people are using the court system to prevent future damage. This CLE will be a discussion of the status of current climate litigation domestically and internationally as well as how these intersect with human rights laws. \nPresenters:\nSuzanne Sangree\, Esq. (’86)\, Senior Counsel\, Grant & Eisenhofer\nEleanor Stein\, JD\, LLM (’86)\, Adjunct Professor\, State University of New York at Albany \nCredits:\n3 CLE credits: 2 Professional Practice\, 0.5 Ethics & Professionalism\, 0.5 Diversity\, Inclusion & Elimination of Bias \nCost:\nFree for CUNY Law alumni\, faculty\, staff\, and students. $75.00 for all others. Financial assistance is available. Please email john-paul.kocot@law.cuny.edu with your request. \nRegistration is required. Click here to register. \nCLE Credits are provided by the Community Legal Resource Network at CUNY School of Law:\nThis CLE program is approved for both experienced and newly admitted attorneys\, except that newly admitted attorneys are not eligible for the 0.5 diversity credit. Consistent with NY State regulations\, CLE credit will be offered only to those attorneys completing the entire session; attorneys attending only part of a session are not eligible for partial credit. Attorneys arriving late are welcome to attend the program but will not be eligible for credit. Also note that for remote trainings\, attorneys must attend on the webinar; we cannot extend credit for audio-only participation.
URL:https://www.law.cuny.edu/event/the-climate-crisis-constitutional-and-human-rights-jurisprudence-cle/
LOCATION:Zoom
CATEGORIES:Alumni,CLE - Continuing Legal Education,Webinar
END:VEVENT
BEGIN:VEVENT
DTSTART;TZID=America/New_York:20240123T171500
DTEND;TZID=America/New_York:20240123T190000
DTSTAMP:20260421T141144
CREATED:20240116T221802Z
LAST-MODIFIED:20240119T185237Z
UID:10134567-1706030100-1706036400@www.law.cuny.edu
SUMMARY:Ace the Interview Program: Sell Your Strengths & Skills
DESCRIPTION:Come hear about strategies to help you prepare for public interest interviews.\nFeaturing Pavita Krishnaswamy ’02\, NY Homes & Cmmty Renewal Tenant Protection; Frannie De Simone\, Faegre Drinker Biddle; Lillian Evans\, NYC Law Departmentt\, who will share strategies to help you prepare for public interest interviews.
URL:https://www.law.cuny.edu/event/ace-the-interview-program-sell-your-strengths-skills/
LOCATION:CUNY School of Law
CATEGORIES:Career Services,Info Session
END:VEVENT
BEGIN:VEVENT
DTSTART;TZID=America/New_York:20240123T173000
DTEND;TZID=America/New_York:20240123T181500
DTSTAMP:20260421T141144
CREATED:20240116T175509Z
LAST-MODIFIED:20240116T175509Z
UID:10134566-1706031000-1706033700@www.law.cuny.edu
SUMMARY:Meet & Greet: Dean's Office invites Faculty\, Staff & Students to their first coffee of the year!
DESCRIPTION:Dean’s Office invites Faculty\, Staff & Students to their first coffee of the year! Please join us in welcoming: \nAssociate Dean of Academic Affairs: David Baluarte \n& \nAssociate Dean of Student Affairs & Enrollment Management: Dr. Joanne Hyppolite \nPizza & Refreshments will be served. \n 
URL:https://www.law.cuny.edu/event/meet-greet-deans-office-invites-faculty-staff-students-to-their-first-coffee-of-the-year-2/
LOCATION:CUNY School of Law
CATEGORIES:Dean's Office,Networking Event,Special Event
END:VEVENT
BEGIN:VEVENT
DTSTART;TZID=America/New_York:20240124T140000
DTEND;TZID=America/New_York:20240124T160000
DTSTAMP:20260421T141144
CREATED:20230607T160018Z
LAST-MODIFIED:20230901T165920Z
UID:10134468-1706104800-1706112000@www.law.cuny.edu
SUMMARY:Faculty Meeting
DESCRIPTION:Community Room 3/115
URL:https://www.law.cuny.edu/event/faculty-meeting-12/
LOCATION:2 Ct Square W\, Long Island City\, 11101\, United States
END:VEVENT
BEGIN:VEVENT
DTSTART;TZID=America/New_York:20240125T130000
DTEND;TZID=America/New_York:20240125T160000
DTSTAMP:20260421T141144
CREATED:20231130T212716Z
LAST-MODIFIED:20240108T193226Z
UID:10134559-1706187600-1706198400@www.law.cuny.edu
SUMMARY:Collateral Consequences of Incarceration: The Clean Slate Act and Beyond (CLE)
DESCRIPTION:This CLE will discuss the recently signed Clean Slate Act\, which will expand opportunities for over 2.3 million New Yorkers with conviction records. With this new law\, New York has joined eleven other states in passing legislation that will automatically seal certain convictions and allow people to overcome systemic barriers to jobs\, housing\, and education. However\, this Act does not cover all those with conviction records. We will discuss what barriers remain for those who are formerly incarcerated and who was not included with the Clean Slate Act and how this can impact clients in a variety of areas of the legal system. \nPresenters:\nDarren Breeden\, Community Intake Advocate\, Neighborhood Defender Service of Harlem—Civil Defense Practice\nAleksandra Ciric\, Staff Attorney\, Special Litigation Unit\, The Legal Aid Society\nZoni (Alexandra) Rockoff (’19)\, Staff Attorney – Civil Defense Practice\, Neighborhood Defender Service of Harlem \nCredits:\n3 CLE credits: 2 Professional Practice\, 0.5 Ethics & Professionalism\, 0.5 Diversity\, Inclusion & Elimination of Bias \nCost:\nFree for CUNY Law alumni\, faculty\, staff\, and students. $75.00 for all others. Financial assistance is available. Please email john-paul.kocot@law.cuny.edu with your request. \nRegistration is required. Click here to register. \nCLE Credits are provided by the Community Legal Resource Network at CUNY School of Law:\nThis CLE program is approved for both experienced and newly admitted attorneys\, except that newly admitted attorneys are not eligible for the 0.5 diversity credit. Consistent with NY State regulations\, CLE credit will be offered only to those attorneys completing the entire session; attorneys attending only part of a session are not eligible for partial credit. Attorneys arriving late are welcome to attend the program but will not be eligible for credit. Also note that for remote trainings\, attorneys must attend on the webinar; we cannot extend credit for audio-only participation.
URL:https://www.law.cuny.edu/event/collateral-consequences-of-incarceration-the-clean-slate-act-and-beyond-cle/
LOCATION:Zoom
CATEGORIES:Alumni,CLE - Continuing Legal Education,Webinar
END:VEVENT
BEGIN:VEVENT
DTSTART;TZID=America/New_York:20240126T140000
DTEND;TZID=America/New_York:20240126T150000
DTSTAMP:20260421T141144
CREATED:20240118T214515Z
LAST-MODIFIED:20240122T172836Z
UID:10134568-1706277600-1706281200@www.law.cuny.edu
SUMMARY:2024 Wellness to Wellbeing Program Foundational Workshop
DESCRIPTION:Open to Students\, Staff\, and Faculty\, designed for survivors\, their allies\, and/or those experiencing trauma-related symptoms. Attend this workshop and help us create a more connected CUNY Law community grounded in the practices of mindfulness and self-care.
URL:https://www.law.cuny.edu/event/2024-wellness-to-wellbeing-program-foundational-workshop/
LOCATION:Zoom
END:VEVENT
END:VCALENDAR