BEGIN:VCALENDAR
VERSION:2.0
PRODID:-//CUNY School of Law - ECPv6.15.14//NONSGML v1.0//EN
CALSCALE:GREGORIAN
METHOD:PUBLISH
X-WR-CALNAME:CUNY School of Law
X-ORIGINAL-URL:https://www.law.cuny.edu
X-WR-CALDESC:Events for CUNY School of Law
REFRESH-INTERVAL;VALUE=DURATION:PT1H
X-Robots-Tag:noindex
X-PUBLISHED-TTL:PT1H
BEGIN:VTIMEZONE
TZID:America/New_York
BEGIN:DAYLIGHT
TZOFFSETFROM:-0500
TZOFFSETTO:-0400
TZNAME:EDT
DTSTART:20230312T070000
END:DAYLIGHT
BEGIN:STANDARD
TZOFFSETFROM:-0400
TZOFFSETTO:-0500
TZNAME:EST
DTSTART:20231105T060000
END:STANDARD
BEGIN:DAYLIGHT
TZOFFSETFROM:-0500
TZOFFSETTO:-0400
TZNAME:EDT
DTSTART:20240310T070000
END:DAYLIGHT
BEGIN:STANDARD
TZOFFSETFROM:-0400
TZOFFSETTO:-0500
TZNAME:EST
DTSTART:20241103T060000
END:STANDARD
BEGIN:DAYLIGHT
TZOFFSETFROM:-0500
TZOFFSETTO:-0400
TZNAME:EDT
DTSTART:20250309T070000
END:DAYLIGHT
BEGIN:STANDARD
TZOFFSETFROM:-0400
TZOFFSETTO:-0500
TZNAME:EST
DTSTART:20251102T060000
END:STANDARD
END:VTIMEZONE
BEGIN:VEVENT
DTSTART;VALUE=DATE:20240322
DTEND;VALUE=DATE:20240325
DTSTAMP:20260421T144748
CREATED:20240228T142626Z
LAST-MODIFIED:20240322T003446Z
UID:10134775-1711065600-1711324799@www.law.cuny.edu
SUMMARY:2024 Haywood Burns Contemplative Social Justice Law Retreat
DESCRIPTION:About the Retreat\nFor more than 20 years\, a community of staff\, students\, faculty\, and alumni have gathered at this annual treat to sit with the weight of social justice lawyering. \nTaking a moment to pause and center yourself is vital for all of us\, especially for those engaged in the study and practice of social justice law. This year’s retreat takes place on March 22-March 24\, 2024 and will be held at the Blue Cliff Monastery in Pine Bush\, New York. \nFor those of you who have attended\, you know how valuable this 3-day break is to recalibrate and refocus in community. We want to share this reflective practice and remove financial obstacles for students who’d like to join. In the past\, the generosity of the alumni community has meant that student fees have been fully covered!  We are hoping to do this again for the 2024 Spring Retreat. \nPlease consider making a contribution to cover student costs. \nRegistration\nCapacity is limited\, so please ensure you can attend if you register for this event. \nStudents can register here\, at no cost. \nAll other community members can register here.
URL:https://www.law.cuny.edu/event/2024-haywood-burns-contemplative-social-justice-law-retreat/
LOCATION:External Host
CATEGORIES:Special Event
END:VEVENT
BEGIN:VEVENT
DTSTART;VALUE=DATE:20240322
DTEND;VALUE=DATE:20240325
DTSTAMP:20260421T144748
CREATED:20240314T160018Z
LAST-MODIFIED:20240320T154948Z
UID:10134596-1711065600-1711324799@www.law.cuny.edu
SUMMARY:2024 Hayward Burns Contemplative Social Justice Retreat: The Revolution Starts Within
DESCRIPTION:For over 20 years\, a small community of staff\, students\, faculty\, and alumni have gathered at this annual retreat to sit with the weight of social justice lawyering. Taking a moment to pause and center yourself is vital for all of us\, especially for those engaged in the study and practice of social justice law. \nThis year’s retreat takes place on March 22-24\, 2024\, and will be held at the Blue Cliff Monastery in Pine Bush\, New York. \nThis year’s theme is: The Revolution Starts Within. We all benefit from honing our inner strength\, to make sure our actions and communications are grounded in our highest alignment with Self. Space is limited this year so we are prioritizing direct CUNY Law folks\, and we will let registrants know if we have additional space for including family members. \nAlumni are fundraising to ensure that finances will not impede any student from attending. If you would like to donate\, go to our GiveGab page. \nStudents register here\, paying as you can $0-$100. \nFaculty\, staff\, and alumni all register directly on the Blue Cliff Monastery website retreat registration page and select the specific CUNY Law Retreat. Cost is $140-$240. \nIf you have any questions\, email Alizabeth Newman.
URL:https://www.law.cuny.edu/event/2024-hayward-burns-contemplative-social-justice-retreat-the-revolution-starts-within/
LOCATION:External Host
CATEGORIES:Special Event
ORGANIZER;CN="CUNY Contemplative Urban Law Project":MAILTO:newman@law.cuny.edu
END:VEVENT
BEGIN:VEVENT
DTSTART;TZID=America/New_York:20240330T120000
DTEND;TZID=America/New_York:20240330T131500
DTSTAMP:20260421T144748
CREATED:20240319T125423Z
LAST-MODIFIED:20240319T125519Z
UID:10134598-1711800000-1711804500@www.law.cuny.edu
SUMMARY:Clinic Preview for Evening Students
DESCRIPTION:A preview of the April 2 Clinic Information Program presenting Part-Time program specific information. \nEvening students have the option to enroll in a Clinic in either the 5th or 7th Semester. Interim Clinic Dean Stephen Loffredo will hold a Saturday preview of the in-person Information Program CUNY Law Clinic faculty will present on Tuesday\, April 2nd at 5:15pm. \nThis preview provides an opportunity to discuss evening-student specific curriculum planning issues with Dean Loffredo. \nThis Saturday online program will be recorded\, but may not be available for posting in time for the Tuesday afternoon Clinic Information Program\, so please consider watching the program live on Saturday. \nZoom Code will be provided by email.
URL:https://www.law.cuny.edu/event/clinic-preview-for-evening-students/
LOCATION:Zoom
CATEGORIES:Workshop
END:VEVENT
END:VCALENDAR