BEGIN:VCALENDAR
VERSION:2.0
PRODID:-//CUNY School of Law - ECPv6.15.14//NONSGML v1.0//EN
CALSCALE:GREGORIAN
METHOD:PUBLISH
X-WR-CALNAME:CUNY School of Law
X-ORIGINAL-URL:https://www.law.cuny.edu
X-WR-CALDESC:Events for CUNY School of Law
REFRESH-INTERVAL;VALUE=DURATION:PT1H
X-Robots-Tag:noindex
X-PUBLISHED-TTL:PT1H
BEGIN:VTIMEZONE
TZID:America/New_York
BEGIN:DAYLIGHT
TZOFFSETFROM:-0500
TZOFFSETTO:-0400
TZNAME:EDT
DTSTART:20230312T070000
END:DAYLIGHT
BEGIN:STANDARD
TZOFFSETFROM:-0400
TZOFFSETTO:-0500
TZNAME:EST
DTSTART:20231105T060000
END:STANDARD
BEGIN:DAYLIGHT
TZOFFSETFROM:-0500
TZOFFSETTO:-0400
TZNAME:EDT
DTSTART:20240310T070000
END:DAYLIGHT
BEGIN:STANDARD
TZOFFSETFROM:-0400
TZOFFSETTO:-0500
TZNAME:EST
DTSTART:20241103T060000
END:STANDARD
BEGIN:DAYLIGHT
TZOFFSETFROM:-0500
TZOFFSETTO:-0400
TZNAME:EDT
DTSTART:20250309T070000
END:DAYLIGHT
BEGIN:STANDARD
TZOFFSETFROM:-0400
TZOFFSETTO:-0500
TZNAME:EST
DTSTART:20251102T060000
END:STANDARD
END:VTIMEZONE
BEGIN:VEVENT
DTSTART;TZID=America/New_York:20240410T140000
DTEND;TZID=America/New_York:20240410T153000
DTSTAMP:20260421T152815
CREATED:20240130T204930Z
LAST-MODIFIED:20240401T134532Z
UID:10134577-1712757600-1712763000@www.law.cuny.edu
SUMMARY:Spring '24 Wellness Workshop: Addressing Gender-Based Violence
DESCRIPTION:This workshop presented by SAVI\, explores the pervasive issue of gender-based violence on a global scale. Gain essential insights into the impact it has on individuals and clients alike. Join us as we delve into the fundamentals\, fostering awareness and understanding to empower meaningful change.
URL:https://www.law.cuny.edu/event/spring-24-wellness-workshop-addressing-gender-based-violence/
LOCATION:Zoom
CATEGORIES:Student Affairs,Workshop
END:VEVENT
BEGIN:VEVENT
DTSTART;TZID=America/New_York:20240412T133000
DTEND;TZID=America/New_York:20240412T150000
DTSTAMP:20260421T152815
CREATED:20240409T124055Z
LAST-MODIFIED:20240409T124209Z
UID:10134779-1712928600-1712934000@www.law.cuny.edu
SUMMARY:Curriculum Committee Meeting
DESCRIPTION:McKinney’s Public Officers Law § 104 \n§ 104. Public notice \nCurrentness \n\nPublic notice of the time and place of a meeting scheduled at least one week prior thereto shall be given or electronically transmitted to the news media and shall be conspicuously posted in one or more designated public locations at least seventy-two hours before such meeting.\nPublic notice of the time and place of every other meeting shall be given or electronically transmitted\, to the extent practicable\, to the news media and shall be conspicuously posted in one or more designated public locations at a reasonable time prior thereto.\nThe public notice provided for by this section shall not be construed to require publication as a legal notice.\nIf videoconferencing is used to conduct a meeting\, the public notice for the meeting shall inform the public that videoconferencing will be used\, identify the locations for the meeting\, and state that the public has the right to attend the meeting at any of the locations.\nIf a meeting will be streamed live over the internet\, the public notice for the meeting shall inform the public of the internet address of the website streaming such meeting.\nWhen a public body has the ability to do so\, notice of the time and place of a meeting given in accordance with subdivision one or two of this section\, shall also be conspicuously posted on the public body’s internet website.
URL:https://www.law.cuny.edu/event/curriculum-committee-meeting-2/
LOCATION:CUNY School of Law Room 3-201
CATEGORIES:Meeting
END:VEVENT
END:VCALENDAR