BEGIN:VCALENDAR
VERSION:2.0
PRODID:-//CUNY School of Law - ECPv6.15.14//NONSGML v1.0//EN
CALSCALE:GREGORIAN
METHOD:PUBLISH
X-WR-CALNAME:CUNY School of Law
X-ORIGINAL-URL:https://www.law.cuny.edu
X-WR-CALDESC:Events for CUNY School of Law
REFRESH-INTERVAL;VALUE=DURATION:PT1H
X-Robots-Tag:noindex
X-PUBLISHED-TTL:PT1H
BEGIN:VTIMEZONE
TZID:America/New_York
BEGIN:DAYLIGHT
TZOFFSETFROM:-0500
TZOFFSETTO:-0400
TZNAME:EDT
DTSTART:20230312T070000
END:DAYLIGHT
BEGIN:STANDARD
TZOFFSETFROM:-0400
TZOFFSETTO:-0500
TZNAME:EST
DTSTART:20231105T060000
END:STANDARD
BEGIN:DAYLIGHT
TZOFFSETFROM:-0500
TZOFFSETTO:-0400
TZNAME:EDT
DTSTART:20240310T070000
END:DAYLIGHT
BEGIN:STANDARD
TZOFFSETFROM:-0400
TZOFFSETTO:-0500
TZNAME:EST
DTSTART:20241103T060000
END:STANDARD
BEGIN:DAYLIGHT
TZOFFSETFROM:-0500
TZOFFSETTO:-0400
TZNAME:EDT
DTSTART:20250309T070000
END:DAYLIGHT
BEGIN:STANDARD
TZOFFSETFROM:-0400
TZOFFSETTO:-0500
TZNAME:EST
DTSTART:20251102T060000
END:STANDARD
END:VTIMEZONE
BEGIN:VEVENT
DTSTART;TZID=America/New_York:20240415T133000
DTEND;TZID=America/New_York:20240415T153000
DTSTAMP:20260421T145249
CREATED:20240313T143734Z
LAST-MODIFIED:20240411T213252Z
UID:10134594-1713187800-1713195000@www.law.cuny.edu
SUMMARY:Practicing Faith and Law
DESCRIPTION:Embarking on the journey of law school\, we each bring our unique lived experiences and cultural backgrounds\, shaping our understanding and engagement with the law and its practice. One of these identities also encompass our faith practices\, presenting challenges and questions as we navigate law school and into professional practice. Join us and our esteemed alumni panel for a thoughtful discussion on how they’ve integrated their faith practices and values into their legal careers. Gain invaluable insights\, practical advice\, and inspiration for navigating ethical challenges in the legal field while championing social justice and compassionate lawyering. 
URL:https://www.law.cuny.edu/event/practicing-faith-and-law/
LOCATION:CUNY Law Community Room
CATEGORIES:Panel Discussion,Student
END:VEVENT
BEGIN:VEVENT
DTSTART;TZID=America/New_York:20240415T174500
DTEND;TZID=America/New_York:20240415T183000
DTSTAMP:20260421T145249
CREATED:20240110T185558Z
LAST-MODIFIED:20240410T181412Z
UID:10134766-1713203100-1713205800@www.law.cuny.edu
SUMMARY:Coffee with Dean Sudha Setty
DESCRIPTION:Students\, faculty\, and staff are invited to gather for coffee and conversation with Dean Sudha Setty. Stop by the 2nd floor lobby\, grab a cup\, and stay if you like! \nLocation: 2nd Floor Lobby \n 
URL:https://www.law.cuny.edu/event/coffee-with-dean-sudha-setty-14/
LOCATION:CUNY School of Law
END:VEVENT
BEGIN:VEVENT
DTSTART;TZID=America/New_York:20240416T170700
DTEND;TZID=America/New_York:20240416T181500
DTSTAMP:20260421T145249
CREATED:20240124T184035Z
LAST-MODIFIED:20250129T204306Z
UID:10134770-1713287220-1713291300@www.law.cuny.edu
SUMMARY:The Student Government of CUNY Law (SG) invites you to attend our General Session of the 2023 - 2024 school year!
DESCRIPTION:At each General Session of SG\, representatives of each class/program review the business conducted on school committees\, make plans to advocate for student interests\, and discuss how to make the student experience at CUNY Law better. \nPlease review prior meeting notes and see the proposed agenda for upcoming meetings at this link: https://docs.google.com/document/d/1iz4z4PHpYEH78ynRI7hqfnq3ldRYYuPiJ8mSnZ61kbg/edit?usp=sharing \n  \nApril 16th \nhttps://us02web.zoom.us/meeting/register/tZUqfuyvrj8uHNHDsbJFJ5q9Ojeze4xUu1CQ \n 
URL:https://www.law.cuny.edu/event/the-student-government-of-cuny-law-sg-invites-you-to-attend-our-general-session-of-the-2023-2024-school-year-2024-04-16/
LOCATION:Room 1-203
CATEGORIES:Student
END:VEVENT
BEGIN:VEVENT
DTSTART;TZID=America/New_York:20240417T134500
DTEND;TZID=America/New_York:20240417T144500
DTSTAMP:20260421T145249
CREATED:20240226T203546Z
LAST-MODIFIED:20240401T141604Z
UID:10134774-1713361500-1713365100@www.law.cuny.edu
SUMMARY:Law and Political Economy at CUNY Law Presents: Coffee with Professors McArdle & Whitlow
DESCRIPTION:Come and join us for a informal discussion of experiences and careers of your professors!!
URL:https://www.law.cuny.edu/event/law-and-political-economy-at-cuny-law-presents-coffee-with-professors-mcardle-whitlow/
LOCATION:2 Ct Square W\, Long Island City\, 11101\, United States
CATEGORIES:Faculty,Special Event
END:VEVENT
BEGIN:VEVENT
DTSTART;TZID=America/New_York:20240417T140000
DTEND;TZID=America/New_York:20240417T150000
DTSTAMP:20260421T145249
CREATED:20240130T205332Z
LAST-MODIFIED:20240401T141426Z
UID:10134578-1713362400-1713366000@www.law.cuny.edu
SUMMARY:Spring '24 Wellness Workshop: Tips and Tools for Adult ADHD
DESCRIPTION:Learn self-help strategies to better manage your ADHD symptoms.
URL:https://www.law.cuny.edu/event/spring-24-wellness-workshop-tips-and-tools-for-adult-adhd/
LOCATION:Zoom
CATEGORIES:Student,Student Affairs,Workshop
END:VEVENT
BEGIN:VEVENT
DTSTART;TZID=America/New_York:20240418T170000
DTEND;TZID=America/New_York:20240418T190000
DTSTAMP:20260421T145249
CREATED:20240416T183203Z
LAST-MODIFIED:20240416T183204Z
UID:10134783-1713459600-1713466800@www.law.cuny.edu
SUMMARY:DEI Campus Climate Program - "Global Dimensions of Religious Bias"
DESCRIPTION:“Global Dimensions of Religious Bias” \nProfessor David Mednicoff\, Chair of the Department of Judaic and Near Eastern Studies at the University of Massachusetts-Amherst\, will explore how  patterns of prejudice against religious groups\, such as anti-Semitism and Islamophobia\, are often analyzed at the national level and in terms of nation-specific politics and law. Yet the nature and spread of bias against minority religious groups in one society are affected by global political forces and groups in significant ways. This talk looks at global political drivers of anti-Semitism in the US as an example of the transnational nature of prejudice in today’s world. \n\n\n\nFood and refreshments will be provided for those that attend the entire program.
URL:https://www.law.cuny.edu/event/dei-campus-climate-program-global-dimensions-of-religious-bias/
LOCATION:CUNY Law Community Room
END:VEVENT
BEGIN:VEVENT
DTSTART;TZID=America/New_York:20240419T180000
DTEND;TZID=America/New_York:20240419T230000
DTSTAMP:20260421T145249
CREATED:20240313T134450Z
LAST-MODIFIED:20250129T191436Z
UID:10134593-1713549600-1713567600@www.law.cuny.edu
SUMMARY:PILA Gala 2024 Midnight Masquerade: A Night of Magic
DESCRIPTION:Step into a world of elegance and impact at the Public Interest Law Association’s Midnight Masquerade: A Night of Magic! Don your most exquisite masks and attire for an evening filled with enchantment as we all support a noble cause. \n  \nThis year\, our Midnight Masquerade aims to raise funds for eight dedicated fellows who will be undertaking unpaid public interest legal internships over the upcoming summer. Your presence and support will directly contribute to empowering these future legal advocates in their pursuit of justice and equality. \nBut the magic doesn’t stop there. We are thrilled to announce that we will be honoring three distinguished leaders in the legal field\, whose unwavering commitment to social justice inspires us all. Join us in celebrating the remarkable achievements of: \n– Harvey Epstein ’94\, Member of the New York State Assembly\, 74th District\n– Jaribu Hill ’95\, Co-Founder and Executive Director of the Mississippi Worker’s Center for Human Rights\n– Frederick K. Brewington\, Adjunct Professor at Fuchsberg and Touro Law Center \nAs you step into the ballroom\, prepare to be tantalized by delectable cuisine and mesmerized by the rhythmic beats of our talented DJ. With each ticket priced at $50\, your contribution not only grants you access to an unforgettable night of dancing and celebration but also goes directly towards supporting our fellows and their invaluable work. \nIn addition to ticket sales\, we invite you to consider leaving a donation and participating in our silent auction\, where you’ll have the chance to bid on an array of fantastic items\, all in the spirit of giving back and making a difference. \nDonations: https://www.givegab.com/teams/pila \nSilent Auction: https://app.charityauctionstoday.com/auctions/31st-pila-gala-auction-midnight-masquerade-41231 \n  \nSo\, come one\, come all\, and let’s make this Midnight Masquerade an evening to remember! Together\, we can turn dreams into reality and create a brighter future for aspiring public interest lawyers. Don’t miss out on this opportunity to be a part of something truly extraordinary. Get your tickets now and join us as we dance the night away for a cause that truly matters.
URL:https://www.law.cuny.edu/event/midnight-masquerade-a-night-of-magic/
LOCATION:CUNY Law Community Room
CATEGORIES:Special Event
END:VEVENT
BEGIN:VEVENT
DTSTART;TZID=America/New_York:20240420T093000
DTEND;TZID=America/New_York:20240420T160000
DTSTAMP:20260421T145249
CREATED:20240415T141836Z
LAST-MODIFIED:20250129T191432Z
UID:10134781-1713605400-1713628800@www.law.cuny.edu
SUMMARY:CUNITY Clean Slate Day
DESCRIPTION:CUNITY Clean Slate Day\, Training\, Workshop\, Info Session and Panel – How to get and clean rapsheets! \nThis daylong event begins with training by The Legal Aid Society Community Justice Unit for CUNY students\, faculty\, staff\, and alums on how to help people get their rapsheets. System impacted individuals will simultaneously attend an information session run by the Community Service Society on the Clean Slate Act. CUNY community members will then assist system impacted people in obtaining their rapsheets. Our lunchtime speaker will be CUNY Alum Assemblywoman Catalina Cruz\, sponsor of the Clean Slate Act. Finally\, the afternoon panel Reentry\, Rapsheet\, and the Road Ahead which will feature system impacted speakers and CUNY Alum .\nThe event is sponsored by the CUNY Anti-Racist Task Force and Student Government.\nPartners include\, Center of Community Alternatives\, The Legal Aid Society\, Community Justice Unit\, and the Community Service Society. \n  \n  \n 
URL:https://www.law.cuny.edu/event/cunity-clean-slate-day/
LOCATION:CUNY Law Community Room
CATEGORIES:Info Session,Panel Discussion,Partner Event,Special Event,Workshop
END:VEVENT
END:VCALENDAR