BEGIN:VCALENDAR
VERSION:2.0
PRODID:-//CUNY School of Law - ECPv6.15.14//NONSGML v1.0//EN
CALSCALE:GREGORIAN
METHOD:PUBLISH
X-WR-CALNAME:CUNY School of Law
X-ORIGINAL-URL:https://www.law.cuny.edu
X-WR-CALDESC:Events for CUNY School of Law
REFRESH-INTERVAL;VALUE=DURATION:PT1H
X-Robots-Tag:noindex
X-PUBLISHED-TTL:PT1H
BEGIN:VTIMEZONE
TZID:America/New_York
BEGIN:DAYLIGHT
TZOFFSETFROM:-0500
TZOFFSETTO:-0400
TZNAME:EDT
DTSTART:20230312T070000
END:DAYLIGHT
BEGIN:STANDARD
TZOFFSETFROM:-0400
TZOFFSETTO:-0500
TZNAME:EST
DTSTART:20231105T060000
END:STANDARD
BEGIN:DAYLIGHT
TZOFFSETFROM:-0500
TZOFFSETTO:-0400
TZNAME:EDT
DTSTART:20240310T070000
END:DAYLIGHT
BEGIN:STANDARD
TZOFFSETFROM:-0400
TZOFFSETTO:-0500
TZNAME:EST
DTSTART:20241103T060000
END:STANDARD
BEGIN:DAYLIGHT
TZOFFSETFROM:-0500
TZOFFSETTO:-0400
TZNAME:EDT
DTSTART:20250309T070000
END:DAYLIGHT
BEGIN:STANDARD
TZOFFSETFROM:-0400
TZOFFSETTO:-0500
TZNAME:EST
DTSTART:20251102T060000
END:STANDARD
END:VTIMEZONE
BEGIN:VEVENT
DTSTART;TZID=America/New_York:20241028T123000
DTEND;TZID=America/New_York:20241028T131500
DTSTAMP:20260421T145656
CREATED:20240815T214855Z
LAST-MODIFIED:20241008T182905Z
UID:10134795-1730118600-1730121300@www.law.cuny.edu
SUMMARY:Trauma-Informed Yoga Program - Fall 2024
DESCRIPTION:Join our 45-minute yoga classes designed to help you manage stress\, connect with your body\, and make mindful\, movement-based choices. Our beginner-friendly classes are perfect for anyone looking to improve their well-being. \nWear comfortable clothing\, and don’t forget to bring your mat or towel. Come experience the benefits of yoga in a supportive and welcoming environment. \n  \n 
URL:https://www.law.cuny.edu/event/trauma-informed-yoga-program-fall-2024-2024-10-28-2024-10-28/
CATEGORIES:Health & Wellness,Student,Student Affairs
END:VEVENT
BEGIN:VEVENT
DTSTART;TZID=America/New_York:20241028T193000
DTEND;TZID=America/New_York:20241028T210000
DTSTAMP:20260421T145656
CREATED:20241018T200233Z
LAST-MODIFIED:20250129T191347Z
UID:10134656-1730143800-1730149200@www.law.cuny.edu
SUMMARY:From Chisholm's Trail to Harris's Run: The Evolution of Black Women in U.S. Presidential Politics
DESCRIPTION:LIMITED TICKETS – FREE \n \nIn 1972\, Congresswoman Shirley Chisholm became the first woman to run on a major party ticket and first woman of color to run for President of the United States. Fifty-two years later\, on the 100th anniversary of Chisholm’s birth\, Vice President Kamala Harris is pursuing the office that eluded Chisholm. \nJoin the Museum of the City of New York for a panel discussion about the ways Chisholm’s run set the stage for Harris and the role of black women in shaping our democracy. Featuring guest speakers\, Dr. Jelani Cobb\, Dean of Journalism at Columbia University and Writer at The New Yorker Magazine\, Dr. Zinga Fraser\, Director of the Shirley Chisholm Project at Brooklyn College\, and Dr. Keisha Blain\, Professor of Africana Studies and History at Brown University. ABC News’s Sandra Bookman will moderate the panel. \nTickets are limited.\nPlease RSVP by Thursday\, October 24\, 2024.
URL:https://www.law.cuny.edu/event/from-chisholms-trail-to-harriss-run-the-evolution-of-black-women-in-u-s-presidential-politics/
LOCATION:Museum of the City of New York\, 1220 Fifth Ave at 103rd St.\, New York\, NY
CATEGORIES:Panel Discussion,Special Event
ATTACH;FMTTYPE=image/jpeg:https://www.law.cuny.edu/wp-content/uploads/page-assets/event/from-chisholms-trail-to-harriss-run-the-evolution-of-black-women-in-u-s-presidential-politics/ChisolmEvent.jpg
END:VEVENT
BEGIN:VEVENT
DTSTART;TZID=America/New_York:20241029T150000
DTEND;TZID=America/New_York:20241029T160000
DTSTAMP:20260421T145656
CREATED:20241011T182609Z
LAST-MODIFIED:20241011T182609Z
UID:10134827-1730214000-1730217600@www.law.cuny.edu
SUMMARY:Curriculum Sub Committee Bar Support Meeting
DESCRIPTION:
URL:https://www.law.cuny.edu/event/curriculum-sub-committee-bar-support-meeting/
LOCATION:Room 3-101
CATEGORIES:Meeting
END:VEVENT
BEGIN:VEVENT
DTSTART;TZID=America/New_York:20241029T150000
DTEND;TZID=America/New_York:20241029T180000
DTSTAMP:20260421T145656
CREATED:20241010T165332Z
LAST-MODIFIED:20250129T204215Z
UID:10134635-1730214000-1730224800@www.law.cuny.edu
SUMMARY:OWLS Weekly Study and Support Group
DESCRIPTION:Older Wiser Law Students is hosting study and support groups for folks who are looking for help with classes\, navigating student life\, and access to resources. \nMembers of OWLS can show up to study\, seek help troubleshooting or understanding technology / media and app literacy\, discuss ageism on campus\, share ideas and resources\, or just hang out with others who “get it.”
URL:https://www.law.cuny.edu/event/sjp-general-body-meeting-2024-10-29/
LOCATION:Room 2-115
CATEGORIES:Meeting
END:VEVENT
BEGIN:VEVENT
DTSTART;TZID=America/New_York:20241029T150000
DTEND;TZID=America/New_York:20241029T180000
DTSTAMP:20260421T145656
CREATED:20241010T165332Z
LAST-MODIFIED:20250129T205555Z
UID:10134822-1730214000-1730224800@www.law.cuny.edu
SUMMARY:OWLS Weekly Study and Support Group
DESCRIPTION:Older Wiser Law Students is hosting study and support groups for folks who are looking for help with classes\, navigating student life\, and access to resources. \nMembers of OWLS can show up to study\, seek help troubleshooting or understanding technology / media and app literacy\, discuss ageism on campus\, share ideas and resources\, or just hang out with others who “get it.”
URL:https://www.law.cuny.edu/event/sjp-general-body-meeting-2024-10-29-3/
LOCATION:Room 2-115
CATEGORIES:Meeting
END:VEVENT
BEGIN:VEVENT
DTSTART;TZID=America/New_York:20241029T172000
DTEND;TZID=America/New_York:20241029T181500
DTSTAMP:20260421T145656
CREATED:20241023T184745Z
LAST-MODIFIED:20241023T184745Z
UID:10134837-1730222400-1730225700@www.law.cuny.edu
SUMMARY:You are invited to our next Dean's Coffee for the Fall 2024 Semester!
DESCRIPTION:The Dean’s Office invites all faculty\, staff and students to attend our next Dean’s Coffee event for the Fall 2024 Semester! The event is scheduled on Tuesday\, October 29th from 5:20pm – 6:15pm\, located on the 2nd Floor Lobby.
URL:https://www.law.cuny.edu/event/you-are-invited-to-our-next-deans-coffee-for-the-fall-2024-semester/
LOCATION:2nd Floor Lobby
END:VEVENT
BEGIN:VEVENT
DTSTART;TZID=America/New_York:20241030T173000
DTEND;TZID=America/New_York:20241030T180000
DTSTAMP:20260421T145656
CREATED:20241016T205831Z
LAST-MODIFIED:20250129T204211Z
UID:10134830-1730309400-1730311200@www.law.cuny.edu
SUMMARY:Weekly Community Meditation
DESCRIPTION:Each Wednesday\, join Pipeline to Justice and Contemplative Lawyering Collective for 30 minutes of mindful meditation in room 1/204. \nAll are welcome. \nDrop in any time in the half hour.
URL:https://www.law.cuny.edu/event/weekly-community-meditation-2024-10-30/
LOCATION:CUNY School of Law Room 1-204
END:VEVENT
BEGIN:VEVENT
DTSTART;TZID=America/New_York:20241030T173000
DTEND;TZID=America/New_York:20241030T180000
DTSTAMP:20260421T145656
CREATED:20241016T205831Z
LAST-MODIFIED:20250129T205314Z
UID:10134649-1730309400-1730311200@www.law.cuny.edu
SUMMARY:Weekly Community Meditation
DESCRIPTION:Each Wednesday\, join Pipeline to Justice and Contemplative Lawyering Collective for 30 minutes of mindful meditation in room 1/204. \nAll are welcome. \nDrop in any time in the half hour.
URL:https://www.law.cuny.edu/event/weekly-community-meditation-2024-10-23-2024-10-30/
LOCATION:CUNY School of Law Room 1-204
END:VEVENT
BEGIN:VEVENT
DTSTART;TZID=America/New_York:20241031T150000
DTEND;TZID=America/New_York:20241031T180000
DTSTAMP:20260421T145656
CREATED:20241010T165332Z
LAST-MODIFIED:20250129T204207Z
UID:10134644-1730386800-1730397600@www.law.cuny.edu
SUMMARY:OWLS Weekly Study and Support Group
DESCRIPTION:Older Wiser Law Students is hosting study and support groups for folks who are looking for help with classes\, navigating student life\, and access to resources. \nMembers of OWLS can show up to study\, seek help troubleshooting or understanding technology / media and app literacy\, discuss ageism on campus\, share ideas and resources\, or just hang out with others who “get it.”
URL:https://www.law.cuny.edu/event/sjp-general-body-meeting-2024-10-31/
LOCATION:Room 2-115
CATEGORIES:Meeting
END:VEVENT
END:VCALENDAR