BEGIN:VCALENDAR
VERSION:2.0
PRODID:-//CUNY School of Law - ECPv6.15.14//NONSGML v1.0//EN
CALSCALE:GREGORIAN
METHOD:PUBLISH
X-WR-CALNAME:CUNY School of Law
X-ORIGINAL-URL:https://www.law.cuny.edu
X-WR-CALDESC:Events for CUNY School of Law
REFRESH-INTERVAL;VALUE=DURATION:PT1H
X-Robots-Tag:noindex
X-PUBLISHED-TTL:PT1H
BEGIN:VTIMEZONE
TZID:America/New_York
BEGIN:DAYLIGHT
TZOFFSETFROM:-0500
TZOFFSETTO:-0400
TZNAME:EDT
DTSTART:20230312T070000
END:DAYLIGHT
BEGIN:STANDARD
TZOFFSETFROM:-0400
TZOFFSETTO:-0500
TZNAME:EST
DTSTART:20231105T060000
END:STANDARD
BEGIN:DAYLIGHT
TZOFFSETFROM:-0500
TZOFFSETTO:-0400
TZNAME:EDT
DTSTART:20240310T070000
END:DAYLIGHT
BEGIN:STANDARD
TZOFFSETFROM:-0400
TZOFFSETTO:-0500
TZNAME:EST
DTSTART:20241103T060000
END:STANDARD
BEGIN:DAYLIGHT
TZOFFSETFROM:-0500
TZOFFSETTO:-0400
TZNAME:EDT
DTSTART:20250309T070000
END:DAYLIGHT
BEGIN:STANDARD
TZOFFSETFROM:-0400
TZOFFSETTO:-0500
TZNAME:EST
DTSTART:20251102T060000
END:STANDARD
END:VTIMEZONE
BEGIN:VEVENT
DTSTART;TZID=America/New_York:20241202T123000
DTEND;TZID=America/New_York:20241202T131500
DTSTAMP:20260421T143709
CREATED:20241008T184412Z
LAST-MODIFIED:20241008T184412Z
UID:10134817-1733142600-1733145300@www.law.cuny.edu
SUMMARY:Trauma-Informed Yoga Program - Fall 2024
DESCRIPTION:Join our 45-minute yoga classes designed to help you manage stress\, connect with your body\, and make mindful\, movement-based choices. Our beginner-friendly classes are perfect for anyone looking to improve their well-being. \nWear comfortable clothing\, and don’t forget to bring your mat or towel. Come experience the benefits of yoga in a supportive and welcoming environment. \n  \n 
URL:https://www.law.cuny.edu/event/trauma-informed-yoga-program-fall-2024-10/
CATEGORIES:Health & Wellness,Student,Student Affairs
END:VEVENT
BEGIN:VEVENT
DTSTART;TZID=America/New_York:20241202T160000
DTEND;TZID=America/New_York:20241202T173000
DTSTAMP:20260421T143709
CREATED:20241112T192257Z
LAST-MODIFIED:20241114T195531Z
UID:10134839-1733155200-1733160600@www.law.cuny.edu
SUMMARY:Curriculum Committee
DESCRIPTION:Curriculum Committee \n4-5:30p Room 1/205 \nAGENDA: \nContinue to receive\, discuss\, and/or follow-up on subcommittee  meeting reports\, as needed: \nGeneral curriculum \nEvening program \nAI \nBar Support \nTIL \nContinue discussion as needed of issues noted above re: additional possible revisions to faculty evaluations and status of Workers Rights Clinic.
URL:https://www.law.cuny.edu/event/curriculum-committee/
LOCATION:Room 1-205
CATEGORIES:Meeting
END:VEVENT
BEGIN:VEVENT
DTSTART;TZID=America/New_York:20241204T123000
DTEND;TZID=America/New_York:20241204T143000
DTSTAMP:20260421T143709
CREATED:20241021T164058Z
LAST-MODIFIED:20250129T191330Z
UID:10134836-1733315400-1733322600@www.law.cuny.edu
SUMMARY:Flow & Flavor: Yoga and Treats for Stress Relief
DESCRIPTION:Take a well-deserved break on the last day of classes! Join us at CUNY Law for Flow & Flavor: Yoga and Treats for Stress Relief. \nUnwind with yoga or mindfulness\, then enjoy hot chocolate\, apple cider\, or coffee with ice cream to end the semester on a sweet note! 🍦🧘 #CUNYLaw #WellnessWednesday #StressRelief #LastDayofClass
URL:https://www.law.cuny.edu/event/flow-flavor-yoga-and-sundaes-for-stress-relief/
LOCATION:5th Floor\, Student Affairs Lounging Area (Across 5-110G)
CATEGORIES:Health & Wellness,Special Event,Student
END:VEVENT
BEGIN:VEVENT
DTSTART;TZID=America/New_York:20241204T123000
DTEND;TZID=America/New_York:20241204T143000
DTSTAMP:20260421T143709
CREATED:20241121T153459Z
LAST-MODIFIED:20250129T191320Z
UID:10134841-1733315400-1733322600@www.law.cuny.edu
SUMMARY:Social Justice Lawyering Strategies to Confront the New Administration: Immigrant Justice
DESCRIPTION:Join us for a series of lunchtime panels on Social Justice Lawyering featuring CUNY Law faculty and expert alumni\n\n\n\nProfessors and Co-Directors of the Immigrant & Non-Citizen Rights Clinic Nermeen Aratsu and Talia Peleg along with Yasmine Farhang ’13 (Director of Advocacy\, Immigrant Defense Project) and Karem Herrera ’24 (Immigrant Justice Corps Fellow\, Lutheran Social Services) will explore immigration lawyering strategies and advocacy in the current political landscape. \nOpen to all Law School students\, faculty\, and staff; lunch is provided. \nRSVP required. Please indicate in-person or Zoom attendance.
URL:https://www.law.cuny.edu/event/social-justice-lawyering-strategies-to-confront-the-new-administration-immigrant-rights/
LOCATION:CUNY Law Community Room
CATEGORIES:Lecture,Panel Discussion,Special Event,Student,Webinar
END:VEVENT
BEGIN:VEVENT
DTSTART;TZID=America/New_York:20241204T173000
DTEND;TZID=America/New_York:20241204T180000
DTSTAMP:20260421T143709
CREATED:20241016T205831Z
LAST-MODIFIED:20250129T203911Z
UID:10134647-1733333400-1733335200@www.law.cuny.edu
SUMMARY:Weekly Community Meditation
DESCRIPTION:Each Wednesday\, join Pipeline to Justice and Contemplative Lawyering Collective for 30 minutes of mindful meditation in room 1/204. \nAll are welcome. \nDrop in any time in the half hour.
URL:https://www.law.cuny.edu/event/weekly-community-meditation-2024-12-04/
LOCATION:CUNY School of Law Room 1-204
END:VEVENT
BEGIN:VEVENT
DTSTART;TZID=America/New_York:20241204T173000
DTEND;TZID=America/New_York:20241204T180000
DTSTAMP:20260421T143709
CREATED:20241016T205831Z
LAST-MODIFIED:20250129T205529Z
UID:10134652-1733333400-1733335200@www.law.cuny.edu
SUMMARY:Weekly Community Meditation
DESCRIPTION:Each Wednesday\, join Pipeline to Justice and Contemplative Lawyering Collective for 30 minutes of mindful meditation in room 1/204. \nAll are welcome. \nDrop in any time in the half hour.
URL:https://www.law.cuny.edu/event/weekly-community-meditation-2024-10-23-2024-12-04/
LOCATION:CUNY School of Law Room 1-204
END:VEVENT
END:VCALENDAR