BEGIN:VCALENDAR
VERSION:2.0
PRODID:-//CUNY School of Law - ECPv6.15.14//NONSGML v1.0//EN
CALSCALE:GREGORIAN
METHOD:PUBLISH
X-WR-CALNAME:CUNY School of Law
X-ORIGINAL-URL:https://www.law.cuny.edu
X-WR-CALDESC:Events for CUNY School of Law
REFRESH-INTERVAL;VALUE=DURATION:PT1H
X-Robots-Tag:noindex
X-PUBLISHED-TTL:PT1H
BEGIN:VTIMEZONE
TZID:America/New_York
BEGIN:DAYLIGHT
TZOFFSETFROM:-0500
TZOFFSETTO:-0400
TZNAME:EDT
DTSTART:20240310T070000
END:DAYLIGHT
BEGIN:STANDARD
TZOFFSETFROM:-0400
TZOFFSETTO:-0500
TZNAME:EST
DTSTART:20241103T060000
END:STANDARD
BEGIN:DAYLIGHT
TZOFFSETFROM:-0500
TZOFFSETTO:-0400
TZNAME:EDT
DTSTART:20250309T070000
END:DAYLIGHT
BEGIN:STANDARD
TZOFFSETFROM:-0400
TZOFFSETTO:-0500
TZNAME:EST
DTSTART:20251102T060000
END:STANDARD
BEGIN:DAYLIGHT
TZOFFSETFROM:-0500
TZOFFSETTO:-0400
TZNAME:EDT
DTSTART:20260308T070000
END:DAYLIGHT
BEGIN:STANDARD
TZOFFSETFROM:-0400
TZOFFSETTO:-0500
TZNAME:EST
DTSTART:20261101T060000
END:STANDARD
END:VTIMEZONE
BEGIN:VEVENT
DTSTART;TZID=America/New_York:20250204T123000
DTEND;TZID=America/New_York:20250204T133000
DTSTAMP:20260421T151550
CREATED:20250130T191144Z
LAST-MODIFIED:20250130T191144Z
UID:10134855-1738672200-1738675800@www.law.cuny.edu
SUMMARY:Housing Court Know Your Rights Information Session with Manhattan Legal Services
DESCRIPTION:Receiving papers demanding your presence at housing court and the process that follows is a traumatizing and overwhelming experience. The power imbalance between landlords and tenants leads to many unrepresented tenants eventually being evicted or giving up rights and defenses they did not know they had. Join the Office of Student Affairs and the Housing Rights Project as we welcome Manhattan Legal Services’ (MLS) housing unit on this Know Your Rights information session. You’ll learn from MLS on how to level the field by walking through the housing court process and delving into resources and potential defenses available to all tenants across New York City.   \n 
URL:https://www.law.cuny.edu/event/housing-court-know-your-rights-information-session-with-manhattan-legal-services/
LOCATION:CUNY School of Law
END:VEVENT
BEGIN:VEVENT
DTSTART;TZID=America/New_York:20250205T140000
DTEND;TZID=America/New_York:20250205T160000
DTSTAMP:20260421T151550
CREATED:20250102T163514Z
LAST-MODIFIED:20250129T191305Z
UID:10134844-1738764000-1738771200@www.law.cuny.edu
SUMMARY:Colaboración Clínica EEUU-México: Cambios Actuales y Anticipados de la Política Migratoria de Trump
DESCRIPTION:The City University of New York School of Law presenta una serie de webinars para mantenernos al tanto de los múltiples cambios esperados a las políticas migratorias en los EEUU en el primer semestre de 2025\, con un enfoque en la protección de refugiados y migrantes en ambos lados de nuestra frontera. \n\n\nEsta serie de cuatro partes: reúne a profesores de clínicas en los EEUU harán una presentación sobre los cambios de las políticas fronterizas y la deportación desde el interior de los EEUU; habrá una intervención de un profesor de clínica en México para exponer sobre los impactos de dichas políticas en México; y una sesión de preguntas y respuestas para profundizar nuestra comprensión tanto de las políticas mismas como de sus impactos en ambos lados de nuestra frontera. \n  \n\nProf. Elissa Steglich\, Co-Directora de la Clínica de Inmigración\nUniversity of Texas at Austin School of Law \nProf. Daniel Cortes\, Director de la Clínica de Asilados\, Refugiados\, y Emigrantes\nUniversity of Villanova School of Law \nMtro. Mario Lino García\, Titular de la Clínica Jurídica Migratoria\nUniversidad Autónoma de Nuevo León \n  \nLiga: https://us02web.zoom.us/j/83829145034?pwd=mxn78hl6iXoZCwUpSIaExFdHnjjV3W.1\nMeeting: 838 2914 5034\nPasscode: 050281 \n  \n\nSerie organizada como continuación de la investigación Fulbright del Profesor David C. Baluarte\, decano académico del CUNY Law. Para mayor información\, comuníquese con Dean Baluarte a david.baluarte@law.cuny.edu.
URL:https://www.law.cuny.edu/event/colaboracion-clinica-eeuu-mexico-cambios-actuales-y-anticipados-de-la-politica-migratoria-de-trump/
LOCATION:Webinar
CATEGORIES:Homepage Feature,Special Event,Webinar
ATTACH;FMTTYPE=image/png:https://www.law.cuny.edu/wp-content/uploads/page-assets/cuny-law-presents-colaboracion-clinica-eeuu-mexico-proteccion-de-refugiados-y-migrantes-en-la-segunda-administracion-de-trump/US-Mexico-Clinical-Collaboration_Social-1.png
END:VEVENT
END:VCALENDAR