BEGIN:VCALENDAR
VERSION:2.0
PRODID:-//CUNY School of Law - ECPv6.15.14//NONSGML v1.0//EN
CALSCALE:GREGORIAN
METHOD:PUBLISH
X-WR-CALNAME:CUNY School of Law
X-ORIGINAL-URL:https://www.law.cuny.edu
X-WR-CALDESC:Events for CUNY School of Law
REFRESH-INTERVAL;VALUE=DURATION:PT1H
X-Robots-Tag:noindex
X-PUBLISHED-TTL:PT1H
BEGIN:VTIMEZONE
TZID:America/New_York
BEGIN:DAYLIGHT
TZOFFSETFROM:-0500
TZOFFSETTO:-0400
TZNAME:EDT
DTSTART:20240310T070000
END:DAYLIGHT
BEGIN:STANDARD
TZOFFSETFROM:-0400
TZOFFSETTO:-0500
TZNAME:EST
DTSTART:20241103T060000
END:STANDARD
BEGIN:DAYLIGHT
TZOFFSETFROM:-0500
TZOFFSETTO:-0400
TZNAME:EDT
DTSTART:20250309T070000
END:DAYLIGHT
BEGIN:STANDARD
TZOFFSETFROM:-0400
TZOFFSETTO:-0500
TZNAME:EST
DTSTART:20251102T060000
END:STANDARD
BEGIN:DAYLIGHT
TZOFFSETFROM:-0500
TZOFFSETTO:-0400
TZNAME:EDT
DTSTART:20260308T070000
END:DAYLIGHT
BEGIN:STANDARD
TZOFFSETFROM:-0400
TZOFFSETTO:-0500
TZNAME:EST
DTSTART:20261101T060000
END:STANDARD
END:VTIMEZONE
BEGIN:VEVENT
DTSTART;TZID=America/New_York:20250429T123000
DTEND;TZID=America/New_York:20250429T131500
DTSTAMP:20260421T144545
CREATED:20250418T183658Z
LAST-MODIFIED:20250418T183658Z
UID:10134900-1745929800-1745932500@www.law.cuny.edu
SUMMARY:Trauma-Informed Yoga Program - Spring 2025
DESCRIPTION:Join our 45-minute yoga classes designed to help you manage stress\, connect with your body\, and make mindful\, movement-based choices. Our beginner-friendly classes are perfect for anyone looking to improve their well-being. \nWear comfortable clothing\, and don’t forget to bring your mat or towel. Come experience the benefits of yoga in a supportive and welcoming environment. \n  \n 
URL:https://www.law.cuny.edu/event/trauma-informed-yoga-program-spring-2025/2025-04-29/
LOCATION:Room 2-111\, 2 Ct Square W\, Long Island City\, NY\, 11101\, United States
CATEGORIES:Health & Wellness,Student,Student Affairs
ORGANIZER;CN="Wellness Office":MAILTO:mentalwellness@law.cuny.edu
END:VEVENT
BEGIN:VEVENT
DTSTART;TZID=America/New_York:20250430T123000
DTEND;TZID=America/New_York:20250430T133000
DTSTAMP:20260421T144545
CREATED:20250211T171134Z
LAST-MODIFIED:20250211T171134Z
UID:10134867-1746016200-1746019800@www.law.cuny.edu
SUMMARY:El Ritmo es la Ley: Weekly Latin Dance Classes
DESCRIPTION:Ready to step away from the books and into the rhythm? Join us for an exciting\, no-experience-needed Latin dance class every week! Whether you’re looking to unwind after a busy day of studying or just want to have fun with friends\, these classes will get you moving and grooving to salsa\, bachata\, and more. \nIt’s the perfect way to break a sweat\, shake off the stress\, and connect with fellow law students\, staff\, and faculty in a lively\, supportive environment. No partner needed—just bring your energy and your smile! \nEvery Wednesday in the Beacon (subject to change)\, from 12:30-1:30 PM and 5:30-6:30 PM.
URL:https://www.law.cuny.edu/event/el-ritmo-es-la-ley-weekly-latin-dance-classes/2025-04-30/
LOCATION:The Beacon\, First Floor Blvd
END:VEVENT
BEGIN:VEVENT
DTSTART;TZID=America/New_York:20250430T123000
DTEND;TZID=America/New_York:20250430T133000
DTSTAMP:20260421T144545
CREATED:20250319T133245Z
LAST-MODIFIED:20250404T183156Z
UID:10134885-1746016200-1746019800@www.law.cuny.edu
SUMMARY:Myth vs. Reality: Common Misconceptions about Eating Disorders
DESCRIPTION:Uncover the truth behind common misconceptions about eating disorders. Learn accurate information to better understand and support healthy relationships with food and body image. \nHosted by the Renfrew Center\, a pioneer in the treatment of ED\, we will explore common myths about eating disorders and how to support a friend or loved ones who is experiencing this challenge. \n 
URL:https://www.law.cuny.edu/event/myth-vs-reality-common-misconceptions-about-eating-disorders/
LOCATION:Zoom
CATEGORIES:Workshop
END:VEVENT
BEGIN:VEVENT
DTSTART;TZID=America/New_York:20250501T180000
DTEND;TZID=America/New_York:20250501T210000
DTSTAMP:20260421T144545
CREATED:20250331T211534Z
LAST-MODIFIED:20250429T124647Z
UID:10134889-1746122400-1746133200@www.law.cuny.edu
SUMMARY:May Day Film Screening & Discussion: Union
DESCRIPTION:Auditorium \nJoin us for a special screening of Union—a powerful documentary capturing the bold and historic efforts of Amazon warehouse workers in Staten Island as they organize for justice on the job. \nThe screening will be followed by a live discussion featuring special guests in conversation about the film\, the future of the labor movement\, and what it takes to take on one of the most powerful corporations in the world. \nCo-sponsored by the CUNY Law Labor Coalition\, Black Law Students Association (BLSA)\, Latin American Law Students Association (LALSA)\, and the CUNY Law National Lawyers Guild chapter (NLG).
URL:https://www.law.cuny.edu/event/screening-of-the-documentary-the-union/
LOCATION:David Fields Auditorium
END:VEVENT
END:VCALENDAR