BEGIN:VCALENDAR
VERSION:2.0
PRODID:-//CUNY School of Law - ECPv6.15.14//NONSGML v1.0//EN
CALSCALE:GREGORIAN
METHOD:PUBLISH
X-WR-CALNAME:CUNY School of Law
X-ORIGINAL-URL:https://www.law.cuny.edu
X-WR-CALDESC:Events for CUNY School of Law
REFRESH-INTERVAL;VALUE=DURATION:PT1H
X-Robots-Tag:noindex
X-PUBLISHED-TTL:PT1H
BEGIN:VTIMEZONE
TZID:America/New_York
BEGIN:DAYLIGHT
TZOFFSETFROM:-0500
TZOFFSETTO:-0400
TZNAME:EDT
DTSTART:20240310T070000
END:DAYLIGHT
BEGIN:STANDARD
TZOFFSETFROM:-0400
TZOFFSETTO:-0500
TZNAME:EST
DTSTART:20241103T060000
END:STANDARD
BEGIN:DAYLIGHT
TZOFFSETFROM:-0500
TZOFFSETTO:-0400
TZNAME:EDT
DTSTART:20250309T070000
END:DAYLIGHT
BEGIN:STANDARD
TZOFFSETFROM:-0400
TZOFFSETTO:-0500
TZNAME:EST
DTSTART:20251102T060000
END:STANDARD
BEGIN:DAYLIGHT
TZOFFSETFROM:-0500
TZOFFSETTO:-0400
TZNAME:EDT
DTSTART:20260308T070000
END:DAYLIGHT
BEGIN:STANDARD
TZOFFSETFROM:-0400
TZOFFSETTO:-0500
TZNAME:EST
DTSTART:20261101T060000
END:STANDARD
END:VTIMEZONE
BEGIN:VEVENT
DTSTART;TZID=America/New_York:20250514T170000
DTEND;TZID=America/New_York:20250514T183000
DTSTAMP:20260421T152842
CREATED:20250312T154856Z
LAST-MODIFIED:20250312T154856Z
UID:10134880-1747242000-1747247400@www.law.cuny.edu
SUMMARY:Curriculum Committee
DESCRIPTION:Curriculum Committee \nRoom 2/119 5p-6:30p
URL:https://www.law.cuny.edu/event/curriculum-committee-5/
LOCATION:Room 2-119
CATEGORIES:Meeting
END:VEVENT
BEGIN:VEVENT
DTSTART;TZID=America/New_York:20250515T130000
DTEND;TZID=America/New_York:20250515T150000
DTSTAMP:20260421T152842
CREATED:20240815T153917Z
LAST-MODIFIED:20240926T190207Z
UID:10134793-1747314000-1747321200@www.law.cuny.edu
SUMMARY:Faculty Meeting
DESCRIPTION:In Community Room \n1:00pm – 3:00pm \nFor proposed agendas & meeting minutes: CLICK HERE
URL:https://www.law.cuny.edu/event/faculty-meeting-19/
LOCATION:CUNY Law Community Room
END:VEVENT
END:VCALENDAR