BEGIN:VCALENDAR
VERSION:2.0
PRODID:-//CUNY School of Law - ECPv6.15.14//NONSGML v1.0//EN
CALSCALE:GREGORIAN
METHOD:PUBLISH
X-WR-CALNAME:CUNY School of Law
X-ORIGINAL-URL:https://www.law.cuny.edu
X-WR-CALDESC:Events for CUNY School of Law
REFRESH-INTERVAL;VALUE=DURATION:PT1H
X-Robots-Tag:noindex
X-PUBLISHED-TTL:PT1H
BEGIN:VTIMEZONE
TZID:America/New_York
BEGIN:DAYLIGHT
TZOFFSETFROM:-0500
TZOFFSETTO:-0400
TZNAME:EDT
DTSTART:20240310T070000
END:DAYLIGHT
BEGIN:STANDARD
TZOFFSETFROM:-0400
TZOFFSETTO:-0500
TZNAME:EST
DTSTART:20241103T060000
END:STANDARD
BEGIN:DAYLIGHT
TZOFFSETFROM:-0500
TZOFFSETTO:-0400
TZNAME:EDT
DTSTART:20250309T070000
END:DAYLIGHT
BEGIN:STANDARD
TZOFFSETFROM:-0400
TZOFFSETTO:-0500
TZNAME:EST
DTSTART:20251102T060000
END:STANDARD
BEGIN:DAYLIGHT
TZOFFSETFROM:-0500
TZOFFSETTO:-0400
TZNAME:EDT
DTSTART:20260308T070000
END:DAYLIGHT
BEGIN:STANDARD
TZOFFSETFROM:-0400
TZOFFSETTO:-0500
TZNAME:EST
DTSTART:20261101T060000
END:STANDARD
END:VTIMEZONE
BEGIN:VEVENT
DTSTART;TZID=America/New_York:20251117T180000
DTEND;TZID=America/New_York:20251117T200000
DTSTAMP:20260421T145656
CREATED:20251028T183651Z
LAST-MODIFIED:20251028T183651Z
UID:10135138-1763402400-1763409600@www.law.cuny.edu
SUMMARY:NYS Senator Kristen Gonzalez's - State of the District
DESCRIPTION:Join Senator Gonzalez and team to discuss the current state of District 59\, how we’re building a more affordable future for working class New Yorkers and how you can help!! \nDoors at 6p! \nRegister HERE
URL:https://www.law.cuny.edu/event/nys-senator-kristen-gonzalezs-state-of-the-district/
LOCATION:CUNY Law Auditorium
ORGANIZER;CN="Dean's Office":MAILTO:deansoffice@law.cuny.edu
END:VEVENT
BEGIN:VEVENT
DTSTART;TZID=America/New_York:20251118T183000
DTEND;TZID=America/New_York:20251118T203000
DTSTAMP:20260421T145656
CREATED:20251006T151928Z
LAST-MODIFIED:20251112T205324Z
UID:10135137-1763490600-1763497800@www.law.cuny.edu
SUMMARY:Registration is Now Closed: 2025 Burns Chair Kristen Clarke in Conversation with Joy Reid
DESCRIPTION:Thank you for your interest in attending this event. As of November 11\, 2025\, registration has reached capacity and we’re no longer able to accept additional RSVPs at this time. We look forward to sharing highlights and and a recording of the event with you and appreciate your understanding. \nKristen Clarke\, 2025 Burns Chair and former U.S. Assistant Attorney General for Civil Rights will be joined by Joy Reid\, award-winning political analyst\, bestselling author\, and host of the Joy Reid Show\, to examine the enduring arc of civil rights advocacy. Drawing from Reid’s recent book\, Medgar and Myrlie: Medgar Evers and the Love Story That Awakened America\, Clarke and Reid will examine how historical racial justice movements can inform contemporary strategies for resilience\, resistance\, and sustained social transformation. They will also discuss​ the vital role of journalism in exposing social and economic inequality. \n  \n 
URL:https://www.law.cuny.edu/event/2025-burns-chair-kristen-clarke-in-conversation-with-joy-reid/
LOCATION:CUNY School of Law Auditorium
CATEGORIES:Special Event
END:VEVENT
END:VCALENDAR