BEGIN:VCALENDAR
VERSION:2.0
PRODID:-//CUNY School of Law - ECPv6.15.14//NONSGML v1.0//EN
CALSCALE:GREGORIAN
METHOD:PUBLISH
X-WR-CALNAME:CUNY School of Law
X-ORIGINAL-URL:https://www.law.cuny.edu
X-WR-CALDESC:Events for CUNY School of Law
REFRESH-INTERVAL;VALUE=DURATION:PT1H
X-Robots-Tag:noindex
X-PUBLISHED-TTL:PT1H
BEGIN:VTIMEZONE
TZID:America/New_York
BEGIN:DAYLIGHT
TZOFFSETFROM:-0500
TZOFFSETTO:-0400
TZNAME:EDT
DTSTART:20250309T070000
END:DAYLIGHT
BEGIN:STANDARD
TZOFFSETFROM:-0400
TZOFFSETTO:-0500
TZNAME:EST
DTSTART:20251102T060000
END:STANDARD
BEGIN:DAYLIGHT
TZOFFSETFROM:-0500
TZOFFSETTO:-0400
TZNAME:EDT
DTSTART:20260308T070000
END:DAYLIGHT
BEGIN:STANDARD
TZOFFSETFROM:-0400
TZOFFSETTO:-0500
TZNAME:EST
DTSTART:20261101T060000
END:STANDARD
BEGIN:DAYLIGHT
TZOFFSETFROM:-0500
TZOFFSETTO:-0400
TZNAME:EDT
DTSTART:20270314T070000
END:DAYLIGHT
BEGIN:STANDARD
TZOFFSETFROM:-0400
TZOFFSETTO:-0500
TZNAME:EST
DTSTART:20271107T060000
END:STANDARD
END:VTIMEZONE
BEGIN:VEVENT
DTSTART;TZID=America/New_York:20260407T171500
DTEND;TZID=America/New_York:20260407T183000
DTSTAMP:20260421T143711
CREATED:20260130T162350Z
LAST-MODIFIED:20260130T162350Z
UID:10135166-1775582100-1775586600@www.law.cuny.edu
SUMMARY:Imposter Syndrome in Law School
DESCRIPTION:[vc_row][vc_column][vc_column_text css=””]This workshop will provide information to students about how “Impostor Syndrome” looks like and the impacts that it can have not only in their academic performance but also in their overall emotional well-being. It will also provide students with tools on how to navigate this while in law school.[/vc_column_text][/vc_column][/vc_row]
URL:https://www.law.cuny.edu/event/imposter-syndrome-in-law-school-3/
LOCATION:CUNY School of Law Room 1-204
END:VEVENT
BEGIN:VEVENT
DTSTART;TZID=America/New_York:20260409T080000
DTEND;TZID=America/New_York:20260409T170000
DTSTAMP:20260421T143711
CREATED:20260401T134704Z
LAST-MODIFIED:20260401T134924Z
UID:10135190-1775721600-1775754000@www.law.cuny.edu
SUMMARY:Admitted Students Day
DESCRIPTION:[vc_row][vc_column][vc_column_text css=””]A day dedicated for Admitted Students to experience CUNY Law’s social justice program! \nCUNY Law Admitted Students Day offers admitted students an opportunity to experience our mission-driven community firsthand. Join faculty\, current students\, and staff to learn how CUNY Law prepares lawyers committed to public service\, access to justice\, and social change. While fostering a collaborative and supportive learning environment. \nRSVP HERE[/vc_column_text][/vc_column][/vc_row]
URL:https://www.law.cuny.edu/event/admitted-students-day/
LOCATION:CUNY School of Law
CATEGORIES:Special Event
END:VEVENT
BEGIN:VEVENT
DTSTART;TZID=America/New_York:20260411T100000
DTEND;TZID=America/New_York:20260411T160000
DTSTAMP:20260421T143711
CREATED:20260311T192718Z
LAST-MODIFIED:20260311T192718Z
UID:10135183-1775901600-1775923200@www.law.cuny.edu
SUMMARY:CLC Day of Mindfulness
DESCRIPTION:[vc_row][vc_column][vc_column_text css=””]The CUNY Contemplative Law Collective will host a gathering of CUNY Law community members for a day of connection and restoration. \nOn April 11th\, from 10 AM to 4 PM\, the CUNY Contemplative Law Collective will host a day of mindfulness. The event will feature various activities geared towards facilitating relaxation\, fostering connection and engendering a sense of community. All members of the CUNY Law community are welcome but please note that capacity will be limited. \nFood will be served.[/vc_column_text][/vc_column][/vc_row]
URL:https://www.law.cuny.edu/event/clc-day-of-mindfulness/
LOCATION:Room 3-301
CATEGORIES:Special Event
ORGANIZER;CN="CUNY Contemplative Urban Law Project":MAILTO:newman@law.cuny.edu
END:VEVENT
END:VCALENDAR