BEGIN:VCALENDAR
VERSION:2.0
PRODID:-//CUNY School of Law - ECPv6.15.14//NONSGML v1.0//EN
CALSCALE:GREGORIAN
METHOD:PUBLISH
X-WR-CALNAME:CUNY School of Law
X-ORIGINAL-URL:https://www.law.cuny.edu
X-WR-CALDESC:Events for CUNY School of Law
REFRESH-INTERVAL;VALUE=DURATION:PT1H
X-Robots-Tag:noindex
X-PUBLISHED-TTL:PT1H
BEGIN:VTIMEZONE
TZID:America/New_York
BEGIN:DAYLIGHT
TZOFFSETFROM:-0500
TZOFFSETTO:-0400
TZNAME:EDT
DTSTART:20250309T070000
END:DAYLIGHT
BEGIN:STANDARD
TZOFFSETFROM:-0400
TZOFFSETTO:-0500
TZNAME:EST
DTSTART:20251102T060000
END:STANDARD
BEGIN:DAYLIGHT
TZOFFSETFROM:-0500
TZOFFSETTO:-0400
TZNAME:EDT
DTSTART:20260308T070000
END:DAYLIGHT
BEGIN:STANDARD
TZOFFSETFROM:-0400
TZOFFSETTO:-0500
TZNAME:EST
DTSTART:20261101T060000
END:STANDARD
BEGIN:DAYLIGHT
TZOFFSETFROM:-0500
TZOFFSETTO:-0400
TZNAME:EDT
DTSTART:20270314T070000
END:DAYLIGHT
BEGIN:STANDARD
TZOFFSETFROM:-0400
TZOFFSETTO:-0500
TZNAME:EST
DTSTART:20271107T060000
END:STANDARD
END:VTIMEZONE
BEGIN:VEVENT
DTSTART;TZID=America/New_York:20260603T120000
DTEND;TZID=America/New_York:20260603T130000
DTSTAMP:20260421T144933
CREATED:20260108T192528Z
LAST-MODIFIED:20260324T190847Z
UID:10135153-1780488000-1780491600@www.law.cuny.edu
SUMMARY:CUNY Law Alumni Connection Series
DESCRIPTION:[vc_row][vc_column][vc_column_text css=””] \nIntroducing the CUNY Law Alumni Connection Series\nBuilding Bridges. Strengthening Community. Supporting Each Other.\n  \nJoin us on Wednesday\, June 3\, 2026\, for the next meeting of the CUNY Law Alumni Connection Series — a new monthly virtual gathering designed to foster meaningful relationships among graduates across all class years and career paths. \nThe CUNY Law Alumni Connection Series is co-facilitated by alums Angela Torregoza ’12 and Yogi Patel ’06. \n  \nEach session will be an opportunity to reconnect\, share experiences\, and expand your professional network whether you’re practicing law\, leading in public service\, or pursuing impact in another field. \n“Our alumni are the heartbeat of CUNY Law’s mission.This series is about rekindling connections\, creating new ones\, and building a community that continues to uplift one another long after graduation.” — Interim Dean Natalie Gomez-Velez \nSeries Schedule\n\nWhen: First Wednesday of every month\nTime: 12:00 PM – 1:00 PM (ET)\nWhere: Virtual via Zoom\nCapacity: Limited to 75 participants per session\n\nBreakouts • Conversation prompts • Alumni spotlights • In‑room and out‑of‑room connections \nRegistration is required. Limited to 75 participants per session — reserve early to guarantee your spot. \nLet’s keep the CUNY Law spirit of justice\, service\, and solidarity alive one connection at a time. \nRegister here.[/vc_column_text][/vc_column][/vc_row]
URL:https://www.law.cuny.edu/event/cuny-law-alumni-connection-series-jun/
LOCATION:CUNY School of Law
CATEGORIES:Alumni,Networking Event
END:VEVENT
END:VCALENDAR