BEGIN:VCALENDAR
VERSION:2.0
PRODID:-//CUNY School of Law - ECPv6.15.14//NONSGML v1.0//EN
CALSCALE:GREGORIAN
METHOD:PUBLISH
X-WR-CALNAME:CUNY School of Law
X-ORIGINAL-URL:https://www.law.cuny.edu
X-WR-CALDESC:Events for CUNY School of Law
REFRESH-INTERVAL;VALUE=DURATION:PT1H
X-Robots-Tag:noindex
X-PUBLISHED-TTL:PT1H
BEGIN:VTIMEZONE
TZID:America/New_York
BEGIN:DAYLIGHT
TZOFFSETFROM:-0500
TZOFFSETTO:-0400
TZNAME:EDT
DTSTART:20250309T070000
END:DAYLIGHT
BEGIN:STANDARD
TZOFFSETFROM:-0400
TZOFFSETTO:-0500
TZNAME:EST
DTSTART:20251102T060000
END:STANDARD
BEGIN:DAYLIGHT
TZOFFSETFROM:-0500
TZOFFSETTO:-0400
TZNAME:EDT
DTSTART:20260308T070000
END:DAYLIGHT
BEGIN:STANDARD
TZOFFSETFROM:-0400
TZOFFSETTO:-0500
TZNAME:EST
DTSTART:20261101T060000
END:STANDARD
BEGIN:DAYLIGHT
TZOFFSETFROM:-0500
TZOFFSETTO:-0400
TZNAME:EDT
DTSTART:20270314T070000
END:DAYLIGHT
BEGIN:STANDARD
TZOFFSETFROM:-0400
TZOFFSETTO:-0500
TZNAME:EST
DTSTART:20271107T060000
END:STANDARD
END:VTIMEZONE
BEGIN:VEVENT
DTSTART;TZID=America/New_York:20260421T171500
DTEND;TZID=America/New_York:20260421T181500
DTSTAMP:20260422T003802
CREATED:20260211T152029Z
LAST-MODIFIED:20260211T152856Z
UID:10135172-1776791700-1776795300@www.law.cuny.edu
SUMMARY:Mindfulness & Meditation: Practical Tools to Manage Stress in Law School
DESCRIPTION:[vc_row][vc_column][vc_column_text css=””]A workshop introducing students to the foundations and practical techniques of mindfulness. \nIt is normal for students to feel stressed by the workload associated with their academic programs\, and the demands of law school can sometimes make that stress feel overwhelming. This workshop introduces the concept of mindfulness and provides practical techniques to help students better manage and cope with stress. \nRSVP HERE[/vc_column_text][/vc_column][/vc_row]
URL:https://www.law.cuny.edu/event/mindfulness-meditation-practical-tools-to-manage-stress-in-law-school/
LOCATION:CUNY School of Law Room 1-204
CATEGORIES:Workshop
END:VEVENT
BEGIN:VEVENT
DTSTART;TZID=America/New_York:20260422T121500
DTEND;TZID=America/New_York:20260422T133000
DTSTAMP:20260422T003802
CREATED:20260305T183759Z
LAST-MODIFIED:20260305T183759Z
UID:10135181-1776860100-1776864600@www.law.cuny.edu
SUMMARY:Faculty Meeting
DESCRIPTION:[vc_row][vc_column][vc_column_text css=””]12:15-1:30p Room 1/202[/vc_column_text][/vc_column][/vc_row]
URL:https://www.law.cuny.edu/event/faculty-meeting-23/
LOCATION:Room 1-202\, 2 COURT SQ\, Long Island City\, NY\, 11101\, United States
ORGANIZER;CN="Dean's Office":MAILTO:deansoffice@law.cuny.edu
END:VEVENT
BEGIN:VEVENT
DTSTART;TZID=America/New_York:20260423T100000
DTEND;TZID=America/New_York:20260423T130000
DTSTAMP:20260422T003802
CREATED:20260413T121535Z
LAST-MODIFIED:20260413T121535Z
UID:10135194-1776938400-1776949200@www.law.cuny.edu
SUMMARY:Protecting Privacy in New York: The Case for a State Constitutional Privacy Amendment Summit
DESCRIPTION:[vc_row][vc_column][vc_column_text css=””]Join us for a day of advocacy\, including a Know Your Rights training and a panel on the state of current events regarding our rights around privacy here in New York. \nFundamental rights are increasingly under attack through this current administration and by the U.S. Supreme Court who has sharply weakened federal constitutional protections for privacy and bodily autonomy. This year\, we have introduced the Privacy Amendment A.9377 (Shimsky) / S.8603 (Ramos) which will establish an explicit right to privacy. This legislation will contribute to the advancement of civil rights\, racial justice\, bodily autonomy\, LGBTQ+ rights\, immigrant rights\, and gender justice here in New York. \n  \nA Know Your Rights: Digital Privacy Workshop (10:15 a.m. – 11: 45 a.m.) \nPrivacy Amendment Panel (12:00 p.m. – 12:50 p.m.) \n  \n  \nRSVP HERE [/vc_column_text][/vc_column][/vc_row]
URL:https://www.law.cuny.edu/event/protecting-privacy-in-new-york-the-case-for-a-state-constitutional-privacy-amendment-summit/
LOCATION:CUNY School of Law Auditorium
CATEGORIES:Info Session,Panel Discussion,Partner Event
END:VEVENT
BEGIN:VEVENT
DTSTART;TZID=America/New_York:20260423T173000
DTEND;TZID=America/New_York:20260423T220000
DTSTAMP:20260422T003802
CREATED:20260210T175250Z
LAST-MODIFIED:20260324T172021Z
UID:10135170-1776965400-1776981600@www.law.cuny.edu
SUMMARY:Reunion 2026
DESCRIPTION:[vc_row][vc_column][vc_column_text css=””] \nReunion is coming!\nThursday\, April 23\, 2026\n5:30 – 10:00 PM EST\nat CUNY School of Law\n2 Court Square\, Long Island City\, NY\nIf your class year ends in 0\, 1\, 5\, or 6\, join your classmates\nfor a memorable reunion celebration at the law school\nin Long Island City on April 23\, 2026!\nWe also welcome the classes of 2024 and 2025!\nDon’t miss the chance to reconnect with classmates and celebrate together.\nClick here for more information and to purchase tickets!\nTickets are $85 per person with special pricing for classes 2024 and 2025.\nAll tickets purchased at the door will be $100.\n[/vc_column_text][/vc_column][/vc_row]
URL:https://www.law.cuny.edu/event/reunion-2026/
LOCATION:CUNY School of Law
CATEGORIES:Alumni,Special Event
ATTACH;FMTTYPE=image/jpeg:https://www.law.cuny.edu/wp-content/uploads/page-assets/alumni/reunion/2023-22-04_CUNYAlumniReunion-59-scaled.jpg
END:VEVENT
END:VCALENDAR